BEGIN:VCALENDAR
VERSION:2.0
PRODID:-//Midtownatlanta.org - ECPv6.7.0//NONSGML v1.0//EN
CALSCALE:GREGORIAN
METHOD:PUBLISH
X-WR-CALNAME:Midtownatlanta.org
X-ORIGINAL-URL:https://midtownatlanta.org
X-WR-CALDESC:Events for Midtownatlanta.org
REFRESH-INTERVAL;VALUE=DURATION:PT1H
X-Robots-Tag:noindex
X-PUBLISHED-TTL:PT1H
BEGIN:VTIMEZONE
TZID:America/New_York
BEGIN:DAYLIGHT
TZOFFSETFROM:-0500
TZOFFSETTO:-0400
TZNAME:EDT
DTSTART:20220313T070000
END:DAYLIGHT
BEGIN:STANDARD
TZOFFSETFROM:-0400
TZOFFSETTO:-0500
TZNAME:EST
DTSTART:20221106T060000
END:STANDARD
END:VTIMEZONE
BEGIN:VEVENT
DTSTART;TZID=America/New_York:20221213T173000
DTEND;TZID=America/New_York:20221213T193000
DTSTAMP:20260424T041259
CREATED:20220117T193625Z
LAST-MODIFIED:20220117T195002Z
UID:10000203-1670952600-1670959800@midtownatlanta.org
SUMMARY:Development Review Committee Meeting
DESCRIPTION:The City of Atlanta’s Development Review Committee (DRC) for Special Public Interest (SPI) Zones 16 & 17 meets monthly to review building proposals in the Midtown Improvement District (“the high-rise section”). The DRC is composed of shareholders of the Midtown Neighborhood including the Midtown Neighbors’ Association\, residents\, business owners and institutions. The Midtown Alliance serves as the administrator of the DRC. \nIf you are interested in big projects happening in the MID\, you are invited to listen to these monthly meetings. \nPlease visit the DRC’s page for sign up information\, dates\, project recaps and more.
URL:https://midtownatlanta.org/events/development-review-committee-meeting/2022-12-13/
LOCATION:Midtown Alliance – Virtual
END:VEVENT
BEGIN:VEVENT
DTSTART;TZID=America/New_York:20221108T173000
DTEND;TZID=America/New_York:20221108T193000
DTSTAMP:20260424T041259
CREATED:20220117T193625Z
LAST-MODIFIED:20220117T195002Z
UID:10000202-1667928600-1667935800@midtownatlanta.org
SUMMARY:Development Review Committee Meeting
DESCRIPTION:The City of Atlanta’s Development Review Committee (DRC) for Special Public Interest (SPI) Zones 16 & 17 meets monthly to review building proposals in the Midtown Improvement District (“the high-rise section”). The DRC is composed of shareholders of the Midtown Neighborhood including the Midtown Neighbors’ Association\, residents\, business owners and institutions. The Midtown Alliance serves as the administrator of the DRC. \nIf you are interested in big projects happening in the MID\, you are invited to listen to these monthly meetings. \nPlease visit the DRC’s page for sign up information\, dates\, project recaps and more.
URL:https://midtownatlanta.org/events/development-review-committee-meeting/2022-11-08/
LOCATION:Midtown Alliance – Virtual
END:VEVENT
BEGIN:VEVENT
DTSTART;TZID=America/New_York:20221011T173000
DTEND;TZID=America/New_York:20221011T193000
DTSTAMP:20260424T041259
CREATED:20220117T193625Z
LAST-MODIFIED:20220117T195002Z
UID:10000201-1665509400-1665516600@midtownatlanta.org
SUMMARY:Development Review Committee Meeting
DESCRIPTION:The City of Atlanta’s Development Review Committee (DRC) for Special Public Interest (SPI) Zones 16 & 17 meets monthly to review building proposals in the Midtown Improvement District (“the high-rise section”). The DRC is composed of shareholders of the Midtown Neighborhood including the Midtown Neighbors’ Association\, residents\, business owners and institutions. The Midtown Alliance serves as the administrator of the DRC. \nIf you are interested in big projects happening in the MID\, you are invited to listen to these monthly meetings. \nPlease visit the DRC’s page for sign up information\, dates\, project recaps and more.
URL:https://midtownatlanta.org/events/development-review-committee-meeting/2022-10-11/
LOCATION:Midtown Alliance – Virtual
END:VEVENT
BEGIN:VEVENT
DTSTART;TZID=America/New_York:20220913T173000
DTEND;TZID=America/New_York:20220913T193000
DTSTAMP:20260424T041259
CREATED:20220117T193625Z
LAST-MODIFIED:20220117T195002Z
UID:10000200-1663090200-1663097400@midtownatlanta.org
SUMMARY:Development Review Committee Meeting
DESCRIPTION:The City of Atlanta’s Development Review Committee (DRC) for Special Public Interest (SPI) Zones 16 & 17 meets monthly to review building proposals in the Midtown Improvement District (“the high-rise section”). The DRC is composed of shareholders of the Midtown Neighborhood including the Midtown Neighbors’ Association\, residents\, business owners and institutions. The Midtown Alliance serves as the administrator of the DRC. \nIf you are interested in big projects happening in the MID\, you are invited to listen to these monthly meetings. \nPlease visit the DRC’s page for sign up information\, dates\, project recaps and more.
URL:https://midtownatlanta.org/events/development-review-committee-meeting/2022-09-13/
LOCATION:Midtown Alliance – Virtual
END:VEVENT
BEGIN:VEVENT
DTSTART;TZID=America/New_York:20220809T173000
DTEND;TZID=America/New_York:20220809T193000
DTSTAMP:20260424T041259
CREATED:20220117T193625Z
LAST-MODIFIED:20220117T195002Z
UID:10000199-1660066200-1660073400@midtownatlanta.org
SUMMARY:Development Review Committee Meeting
DESCRIPTION:The City of Atlanta’s Development Review Committee (DRC) for Special Public Interest (SPI) Zones 16 & 17 meets monthly to review building proposals in the Midtown Improvement District (“the high-rise section”). The DRC is composed of shareholders of the Midtown Neighborhood including the Midtown Neighbors’ Association\, residents\, business owners and institutions. The Midtown Alliance serves as the administrator of the DRC. \nIf you are interested in big projects happening in the MID\, you are invited to listen to these monthly meetings. \nPlease visit the DRC’s page for sign up information\, dates\, project recaps and more.
URL:https://midtownatlanta.org/events/development-review-committee-meeting/2022-08-09/
LOCATION:Midtown Alliance – Virtual
END:VEVENT
BEGIN:VEVENT
DTSTART;TZID=America/New_York:20220712T173000
DTEND;TZID=America/New_York:20220712T193000
DTSTAMP:20260424T041259
CREATED:20220117T193625Z
LAST-MODIFIED:20220117T195002Z
UID:10000198-1657647000-1657654200@midtownatlanta.org
SUMMARY:Development Review Committee Meeting
DESCRIPTION:The City of Atlanta’s Development Review Committee (DRC) for Special Public Interest (SPI) Zones 16 & 17 meets monthly to review building proposals in the Midtown Improvement District (“the high-rise section”). The DRC is composed of shareholders of the Midtown Neighborhood including the Midtown Neighbors’ Association\, residents\, business owners and institutions. The Midtown Alliance serves as the administrator of the DRC. \nIf you are interested in big projects happening in the MID\, you are invited to listen to these monthly meetings. \nPlease visit the DRC’s page for sign up information\, dates\, project recaps and more.
URL:https://midtownatlanta.org/events/development-review-committee-meeting/2022-07-12/
LOCATION:Midtown Alliance – Virtual
END:VEVENT
BEGIN:VEVENT
DTSTART;TZID=America/New_York:20220614T173000
DTEND;TZID=America/New_York:20220614T193000
DTSTAMP:20260424T041259
CREATED:20220117T193625Z
LAST-MODIFIED:20220117T195002Z
UID:10000197-1655227800-1655235000@midtownatlanta.org
SUMMARY:Development Review Committee Meeting
DESCRIPTION:The City of Atlanta’s Development Review Committee (DRC) for Special Public Interest (SPI) Zones 16 & 17 meets monthly to review building proposals in the Midtown Improvement District (“the high-rise section”). The DRC is composed of shareholders of the Midtown Neighborhood including the Midtown Neighbors’ Association\, residents\, business owners and institutions. The Midtown Alliance serves as the administrator of the DRC. \nIf you are interested in big projects happening in the MID\, you are invited to listen to these monthly meetings. \nPlease visit the DRC’s page for sign up information\, dates\, project recaps and more.
URL:https://midtownatlanta.org/events/development-review-committee-meeting/2022-06-14/
LOCATION:Midtown Alliance – Virtual
END:VEVENT
BEGIN:VEVENT
DTSTART;TZID=America/New_York:20220510T173000
DTEND;TZID=America/New_York:20220510T193000
DTSTAMP:20260424T041259
CREATED:20220117T193625Z
LAST-MODIFIED:20220117T195002Z
UID:10000196-1652203800-1652211000@midtownatlanta.org
SUMMARY:Development Review Committee Meeting
DESCRIPTION:The City of Atlanta’s Development Review Committee (DRC) for Special Public Interest (SPI) Zones 16 & 17 meets monthly to review building proposals in the Midtown Improvement District (“the high-rise section”). The DRC is composed of shareholders of the Midtown Neighborhood including the Midtown Neighbors’ Association\, residents\, business owners and institutions. The Midtown Alliance serves as the administrator of the DRC. \nIf you are interested in big projects happening in the MID\, you are invited to listen to these monthly meetings. \nPlease visit the DRC’s page for sign up information\, dates\, project recaps and more.
URL:https://midtownatlanta.org/events/development-review-committee-meeting/2022-05-10/
LOCATION:Midtown Alliance – Virtual
END:VEVENT
BEGIN:VEVENT
DTSTART;TZID=America/New_York:20220412T173000
DTEND;TZID=America/New_York:20220412T193000
DTSTAMP:20260424T041259
CREATED:20220117T193625Z
LAST-MODIFIED:20220117T195002Z
UID:10000195-1649784600-1649791800@midtownatlanta.org
SUMMARY:Development Review Committee Meeting
DESCRIPTION:The City of Atlanta’s Development Review Committee (DRC) for Special Public Interest (SPI) Zones 16 & 17 meets monthly to review building proposals in the Midtown Improvement District (“the high-rise section”). The DRC is composed of shareholders of the Midtown Neighborhood including the Midtown Neighbors’ Association\, residents\, business owners and institutions. The Midtown Alliance serves as the administrator of the DRC. \nIf you are interested in big projects happening in the MID\, you are invited to listen to these monthly meetings. \nPlease visit the DRC’s page for sign up information\, dates\, project recaps and more.
URL:https://midtownatlanta.org/events/development-review-committee-meeting/2022-04-12/
LOCATION:Midtown Alliance – Virtual
END:VEVENT
BEGIN:VEVENT
DTSTART;TZID=America/New_York:20220308T173000
DTEND;TZID=America/New_York:20220308T193000
DTSTAMP:20260424T041259
CREATED:20220117T193625Z
LAST-MODIFIED:20220117T195002Z
UID:10000194-1646760600-1646767800@midtownatlanta.org
SUMMARY:Development Review Committee Meeting
DESCRIPTION:The City of Atlanta’s Development Review Committee (DRC) for Special Public Interest (SPI) Zones 16 & 17 meets monthly to review building proposals in the Midtown Improvement District (“the high-rise section”). The DRC is composed of shareholders of the Midtown Neighborhood including the Midtown Neighbors’ Association\, residents\, business owners and institutions. The Midtown Alliance serves as the administrator of the DRC. \nIf you are interested in big projects happening in the MID\, you are invited to listen to these monthly meetings. \nPlease visit the DRC’s page for sign up information\, dates\, project recaps and more.
URL:https://midtownatlanta.org/events/development-review-committee-meeting/2022-03-08/
LOCATION:Midtown Alliance – Virtual
END:VEVENT
BEGIN:VEVENT
DTSTART;TZID=America/New_York:20220208T173000
DTEND;TZID=America/New_York:20220208T193000
DTSTAMP:20260424T041259
CREATED:20220117T193625Z
LAST-MODIFIED:20220117T195002Z
UID:10000193-1644341400-1644348600@midtownatlanta.org
SUMMARY:Development Review Committee Meeting
DESCRIPTION:The City of Atlanta’s Development Review Committee (DRC) for Special Public Interest (SPI) Zones 16 & 17 meets monthly to review building proposals in the Midtown Improvement District (“the high-rise section”). The DRC is composed of shareholders of the Midtown Neighborhood including the Midtown Neighbors’ Association\, residents\, business owners and institutions. The Midtown Alliance serves as the administrator of the DRC. \nIf you are interested in big projects happening in the MID\, you are invited to listen to these monthly meetings. \nPlease visit the DRC’s page for sign up information\, dates\, project recaps and more.
URL:https://midtownatlanta.org/events/development-review-committee-meeting/2022-02-08/
LOCATION:Midtown Alliance – Virtual
END:VEVENT
END:VCALENDAR