BEGIN:VCALENDAR
VERSION:2.0
PRODID:-//Midtownatlanta.org - ECPv6.7.0//NONSGML v1.0//EN
CALSCALE:GREGORIAN
METHOD:PUBLISH
X-ORIGINAL-URL:https://midtownatlanta.org
X-WR-CALDESC:Events for Midtownatlanta.org
REFRESH-INTERVAL;VALUE=DURATION:PT1H
X-Robots-Tag:noindex
X-PUBLISHED-TTL:PT1H
BEGIN:VTIMEZONE
TZID:America/New_York
BEGIN:DAYLIGHT
TZOFFSETFROM:-0500
TZOFFSETTO:-0400
TZNAME:EDT
DTSTART:20240310T070000
END:DAYLIGHT
BEGIN:STANDARD
TZOFFSETFROM:-0400
TZOFFSETTO:-0500
TZNAME:EST
DTSTART:20241103T060000
END:STANDARD
END:VTIMEZONE
BEGIN:VEVENT
DTSTART;TZID=America/New_York:20240229T170000
DTEND;TZID=America/New_York:20240229T190000
DTSTAMP:20260424T075808
CREATED:20240215T162225Z
LAST-MODIFIED:20240215T162225Z
UID:10000713-1709226000-1709233200@midtownatlanta.org
SUMMARY:Plan A: Kick Off Event
DESCRIPTION:The Department of City Planning will host its first public engagement event for Plan A with a community gathering to spotlight the importance of the Comprehensive Development Plan (CDP)\, what Atlantans can expect throughout the process\, and how they can participate to have their voices heard. \n\n \n\n\n\n 
URL:https://midtownatlanta.org/events/plan-a-kick-off-event/
LOCATION:Greenbriar Mall\, 2841 Greenbriar Pkwy SW\, Atlanta\, GA\, 30331\, United States
END:VEVENT
END:VCALENDAR