BEGIN:VCALENDAR
VERSION:2.0
PRODID:-//Midtownatlanta.org - ECPv6.7.0//NONSGML v1.0//EN
CALSCALE:GREGORIAN
METHOD:PUBLISH
X-WR-CALNAME:Midtownatlanta.org
X-ORIGINAL-URL:https://midtownatlanta.org
X-WR-CALDESC:Events for Midtownatlanta.org
REFRESH-INTERVAL;VALUE=DURATION:PT1H
X-Robots-Tag:noindex
X-PUBLISHED-TTL:PT1H
BEGIN:VTIMEZONE
TZID:America/New_York
BEGIN:DAYLIGHT
TZOFFSETFROM:-0500
TZOFFSETTO:-0400
TZNAME:EDT
DTSTART:20220313T070000
END:DAYLIGHT
BEGIN:STANDARD
TZOFFSETFROM:-0400
TZOFFSETTO:-0500
TZNAME:EST
DTSTART:20221106T060000
END:STANDARD
END:VTIMEZONE
BEGIN:VEVENT
DTSTART;TZID=America/New_York:20220319T090000
DTEND;TZID=America/New_York:20220319T110000
DTSTAMP:20260423T171813
CREATED:20220228T194453Z
LAST-MODIFIED:20220228T195945Z
UID:10000289-1647680400-1647687600@midtownatlanta.org
SUMMARY:VIBE Meet-up & Clean-up
DESCRIPTION:Join the MNA VIBE Committee to discuss upcoming projects from 9:00 – 9:30 AM.  Then\, roll-up your sleeves for a neighborhood clean-up project from 9:30 – 11:00 AM. \nThere is a direct connection between the number of participants and how big our impact is that day.  Bring your crew with you and multiply the results.  These projects always feel good and go a long way in strengthening neighborhood pride. Our clean-ups happen frequently in the spring and fall seasons. \nVIBE projects focus on keeping our neighborhood tidy which makes residents happy and the added benefit of enhancing public safety.  Want to learn more about being a part of this? Please visit the VIBE Committee page to learn more about how we do what we do.
URL:https://midtownatlanta.org/events/vibe-meet-up-clean-up-march/
LOCATION:VIBE Meet-up Location\, 807 Argonne Avenue\, Atlanta\, GA\, 30308\, United States
END:VEVENT
END:VCALENDAR