BEGIN:VCALENDAR
VERSION:2.0
PRODID:-//Midtownatlanta.org - ECPv6.7.0//NONSGML v1.0//EN
CALSCALE:GREGORIAN
METHOD:PUBLISH
X-ORIGINAL-URL:https://midtownatlanta.org
X-WR-CALDESC:Events for Midtownatlanta.org
REFRESH-INTERVAL;VALUE=DURATION:PT1H
X-Robots-Tag:noindex
X-PUBLISHED-TTL:PT1H
BEGIN:VTIMEZONE
TZID:America/New_York
BEGIN:DAYLIGHT
TZOFFSETFROM:-0500
TZOFFSETTO:-0400
TZNAME:EDT
DTSTART:20230312T070000
END:DAYLIGHT
BEGIN:STANDARD
TZOFFSETFROM:-0400
TZOFFSETTO:-0500
TZNAME:EST
DTSTART:20231105T060000
END:STANDARD
END:VTIMEZONE
BEGIN:VEVENT
DTSTART;TZID=America/New_York:20230520T090000
DTEND;TZID=America/New_York:20230520T100000
DTSTAMP:20260425T121218
CREATED:20230503T203534Z
LAST-MODIFIED:20230503T203807Z
UID:10000612-1684573200-1684576800@midtownatlanta.org
SUMMARY:Midtown Clean-up Day: Garden Stroll Prep
DESCRIPTION:Pitch in an hour of time to help pick up trash around the Midtown Garden District so we can look our best for the upcoming 2023 Garden Stroll on 5/21/23. This is a great way to meet new people\, get outside in this glorious weather\, and do your part for our community.
URL:https://midtownatlanta.org/events/midtown-clean-up-day-garden-stroll-prep-2/
LOCATION:327 6th Street\, 327 6th Street\, Atlanta\, Fulton\, 30308\, United States
END:VEVENT
BEGIN:VEVENT
DTSTART;TZID=America/New_York:20230507T090000
DTEND;TZID=America/New_York:20230507T100000
DTSTAMP:20260425T121218
CREATED:20230503T203353Z
LAST-MODIFIED:20230503T203832Z
UID:10000611-1683450000-1683453600@midtownatlanta.org
SUMMARY:Midtown Clean-up Day: Garden Stroll Prep
DESCRIPTION:Pitch in an hour of time to help pick up trash around the Midtown Garden District so we can look our best for the upcoming 2023 Garden Stroll on 5/21/23. This is a great way to meet new people\, get outside in this glorious weather\, and do your part for our community.
URL:https://midtownatlanta.org/events/midtown-clean-up-day-garden-stroll-prep/
LOCATION:807 Argonne Avenue\, 807 Argonne Avenue\, Atlanta\, Fulton\, 30308\, United States
END:VEVENT
END:VCALENDAR