BEGIN:VCALENDAR
VERSION:2.0
PRODID:-//Midtownatlanta.org - ECPv6.7.0//NONSGML v1.0//EN
CALSCALE:GREGORIAN
METHOD:PUBLISH
X-ORIGINAL-URL:https://midtownatlanta.org
X-WR-CALDESC:Events for Midtownatlanta.org
REFRESH-INTERVAL;VALUE=DURATION:PT1H
X-Robots-Tag:noindex
X-PUBLISHED-TTL:PT1H
BEGIN:VTIMEZONE
TZID:America/New_York
BEGIN:DAYLIGHT
TZOFFSETFROM:-0500
TZOFFSETTO:-0400
TZNAME:EDT
DTSTART:20230312T070000
END:DAYLIGHT
BEGIN:STANDARD
TZOFFSETFROM:-0400
TZOFFSETTO:-0500
TZNAME:EST
DTSTART:20231105T060000
END:STANDARD
BEGIN:DAYLIGHT
TZOFFSETFROM:-0500
TZOFFSETTO:-0400
TZNAME:EDT
DTSTART:20240310T070000
END:DAYLIGHT
BEGIN:STANDARD
TZOFFSETFROM:-0400
TZOFFSETTO:-0500
TZNAME:EST
DTSTART:20241103T060000
END:STANDARD
BEGIN:DAYLIGHT
TZOFFSETFROM:-0500
TZOFFSETTO:-0400
TZNAME:EDT
DTSTART:20250309T070000
END:DAYLIGHT
BEGIN:STANDARD
TZOFFSETFROM:-0400
TZOFFSETTO:-0500
TZNAME:EST
DTSTART:20251102T060000
END:STANDARD
BEGIN:DAYLIGHT
TZOFFSETFROM:-0500
TZOFFSETTO:-0400
TZNAME:EDT
DTSTART:20260308T070000
END:DAYLIGHT
BEGIN:STANDARD
TZOFFSETFROM:-0400
TZOFFSETTO:-0500
TZNAME:EST
DTSTART:20261101T060000
END:STANDARD
END:VTIMEZONE
BEGIN:VEVENT
DTSTART;TZID=America/New_York:20260129T183000
DTEND;TZID=America/New_York:20260129T203000
DTSTAMP:20260423T190931
CREATED:20260114T131014Z
LAST-MODIFIED:20260125T201441Z
UID:10001224-1769711400-1769718600@midtownatlanta.org
SUMMARY:Midtown Annual Meeting
DESCRIPTION:Virtual only – register here
URL:https://midtownatlanta.org/events/midtown-annual-meeting-2/
END:VEVENT
BEGIN:VEVENT
DTSTART;TZID=America/New_York:20241203T170000
DTEND;TZID=America/New_York:20241203T210000
DTSTAMP:20260423T190931
CREATED:20241015T161301Z
LAST-MODIFIED:20241021T184552Z
UID:10000924-1733245200-1733259600@midtownatlanta.org
SUMMARY:Varuni Napoli - Dining Out Community Fundraiser
DESCRIPTION:It is pizza night in Midtown!  Head to Varuni Napoli at 1540 Monroe Drive for dinner (dine-in only) and a portion of your bill will be donated to Midtown Neighbors’ Association.  Nothing is better for a mid-week pick me up than wood fired pizza\, a glass of wine\, a cannoli and friendly Midtown faces.  Your choice to enjoy tasty pizza will help raise money for our Midtown community projects. \n \n 
URL:https://midtownatlanta.org/events/varuni-napoli-dining-out-community-fundraiser/2024-12-03/
LOCATION:Varuni Napoli\, 1540 Monroe Drive NE\, Atlanta\, GA\, 30324\, United States
END:VEVENT
BEGIN:VEVENT
DTSTART;TZID=America/New_York:20241120T170000
DTEND;TZID=America/New_York:20241120T210000
DTSTAMP:20260423T190931
CREATED:20241015T161301Z
LAST-MODIFIED:20241021T184552Z
UID:10000923-1732122000-1732136400@midtownatlanta.org
SUMMARY:Varuni Napoli - Dining Out Community Fundraiser
DESCRIPTION:It is pizza night in Midtown!  Head to Varuni Napoli at 1540 Monroe Drive for dinner (dine-in only) and a portion of your bill will be donated to Midtown Neighbors’ Association.  Nothing is better for a mid-week pick me up than wood fired pizza\, a glass of wine\, a cannoli and friendly Midtown faces.  Your choice to enjoy tasty pizza will help raise money for our Midtown community projects. \n \n 
URL:https://midtownatlanta.org/events/varuni-napoli-dining-out-community-fundraiser/2024-11-20/
LOCATION:Varuni Napoli\, 1540 Monroe Drive NE\, Atlanta\, GA\, 30324\, United States
END:VEVENT
BEGIN:VEVENT
DTSTART;TZID=America/New_York:20241031T170000
DTEND;TZID=America/New_York:20241031T190000
DTSTAMP:20260423T190931
CREATED:20240910T125036Z
LAST-MODIFIED:20240910T125036Z
UID:10000916-1730394000-1730401200@midtownatlanta.org
SUMMARY:Midtown Halloween Bash
DESCRIPTION:Midtown’s Annual Halloween Bash returns Thursday\, October 31st from 5 PM – 7 PM.  Plan to start your night with your neighbors on Penn Avenue for a playfully spooky block party filled with music\, food trucks\, treats\, and activities before heading off to trick or treat in Midtown’s Historic Garden District.  This event is for the young and young at heart. While Midtown neighbors always deliver on the creativity\, costumes are optional.  We want everyone to join!  Follow all the exciting details and find ways to support this special Midtown tradition.
URL:https://midtownatlanta.org/events/midtown-halloween-bash/
LOCATION:Penn Avenue Block Party
END:VEVENT
BEGIN:VEVENT
DTSTART;TZID=America/New_York:20241022T170000
DTEND;TZID=America/New_York:20241022T210000
DTSTAMP:20260423T190931
CREATED:20241015T161301Z
LAST-MODIFIED:20241021T184552Z
UID:10000922-1729616400-1729630800@midtownatlanta.org
SUMMARY:Varuni Napoli - Dining Out Community Fundraiser
DESCRIPTION:It is pizza night in Midtown!  Head to Varuni Napoli at 1540 Monroe Drive for dinner (dine-in only) and a portion of your bill will be donated to Midtown Neighbors’ Association.  Nothing is better for a mid-week pick me up than wood fired pizza\, a glass of wine\, a cannoli and friendly Midtown faces.  Your choice to enjoy tasty pizza will help raise money for our Midtown community projects. \n \n 
URL:https://midtownatlanta.org/events/varuni-napoli-dining-out-community-fundraiser/2024-10-22/
LOCATION:Varuni Napoli\, 1540 Monroe Drive NE\, Atlanta\, GA\, 30324\, United States
END:VEVENT
BEGIN:VEVENT
DTSTART;TZID=America/New_York:20240806T180000
DTEND;TZID=America/New_York:20240806T200000
DTSTAMP:20260423T190931
CREATED:20240715T151946Z
LAST-MODIFIED:20240724T210019Z
UID:10000904-1722967200-1722974400@midtownatlanta.org
SUMMARY:National Night Out Midtown Block Party
DESCRIPTION:SAVE THE DATE MIDTOWN FRIENDS! \nMidtown’s National Night Out Block Party returns for the 21st year!\nCome out for classic block party fun while you connect with neighbors\, elected leaders\, and a wide range of non-profit orgs and city departments dedicated to community resources and public safety. \nDo you want to….\nKnow the services available to help our unhoused community?\nHave a one on one conversation with Midtown’s APD Commanders?\nPet a horse?\nThank our Midtown firefighters and police officers for their daily service?\nEnjoy a good icy pop?\nMeet some neighbors?\nPaint your face like Spiderman?\nAsk our Council Members about a hot topic?\nBetter understand E911 and wait times? \nJoin us! \nCome hangout and be an active member of our community’s public safety plan – giving back\, learning more\, and contributing in all the ways we can as residents.
URL:https://midtownatlanta.org/events/national-night-out-midtown-block-party/
END:VEVENT
BEGIN:VEVENT
DTSTART;TZID=America/New_York:20240213T180000
DTEND;TZID=America/New_York:20240213T200000
DTSTAMP:20260423T190931
CREATED:20240205T005059Z
LAST-MODIFIED:20240205T005059Z
UID:10000712-1707847200-1707854400@midtownatlanta.org
SUMMARY:Midtown Meet Up: BBQ & Coats
DESCRIPTION:Join neighbors as we head over to Sweet Auburn BBQ for incredible food\, fellowship\, and a good deed. Bring a coat  to donate and get a drink on the house! \nAnita Hsu\, one half of the sibling duo that owns Sweet Auburn\, is a longtime Midtown resident. Anita and her family are wonderful supporters of MNA and are often serving up and donating tasty bites at our many events. Let’s show them some love by eating BBQ nachos together.  \nWe hope to see you!  Bring friends!  Check out the menu! \n https://drive.google.com/file/d/1Py5ZBSqsGDbA0UKkaaWB631t6GEhrIf5/view?usp=drive_link
URL:https://midtownatlanta.org/events/midtown-meet-up-bbq-coats/
LOCATION:Sweet Auburn BBQ\, 656 N Highland Avenue\, Atlanta\, GA\, 30306\, United States
END:VEVENT
BEGIN:VEVENT
DTSTART;TZID=America/New_York:20240125T183000
DTEND;TZID=America/New_York:20240125T203000
DTSTAMP:20260423T190931
CREATED:20240103T044933Z
LAST-MODIFIED:20240103T045042Z
UID:10000711-1706207400-1706214600@midtownatlanta.org
SUMMARY:Midtown Annual Meeting
DESCRIPTION:Please visit the Annual Meeting page for exciting details on our 56th Midtown Annual Meeting.  This year\, we will return to the beloved tradition of our dinner at Park Tavern.  See you there!
URL:https://midtownatlanta.org/events/midtown-annual-meeting-copy/
LOCATION:Park Tavern\, 500 10th Street NE\, Atlanta\, GA\, 30309\, United States
END:VEVENT
BEGIN:VEVENT
DTSTART;TZID=America/New_York:20230521T120000
DTEND;TZID=America/New_York:20230521T170000
DTSTAMP:20260423T190931
CREATED:20230120T150721Z
LAST-MODIFIED:20230120T150721Z
UID:10000178-1684670400-1684688400@midtownatlanta.org
SUMMARY:10th Annual Midtown Garden Stroll
DESCRIPTION:The 10th Annual Midtown Garden Stroll is MNA’s biggest\, most highly anticipated event of the year!  The Garden Stroll is a free event\, open to the general public\, and takes place throughout the Historic Midtown Garden District.  The stroll is an outdoor self-guided tour\, providing a rare opportunity to experience some of Midtown’s most impressive private gardens.  Guests can expect to see formal gardens\, casual gardens\, fountains\, espalier\, backyard beekeeping\, intricate brickwork\, and inspiring ideas for beautiful\, fully functional family yards. \nBe sure to make time to enjoy the Garden Stroll Market where local artisans will showcase their creations\, live musicians will play and a talented Midtown artist will complete a live painting! Tasty bites and drinks are also offered by Atlanta-based restauranteurs. \nMark your calendar now and check back for more details as the date approaches.  We will post loads of fun content on our Instagram account – follow us!  @midtownneighbors
URL:https://midtownatlanta.org/events/10th-annual-midtown-garden-stroll/
LOCATION:Penn Avenue NW\, 826 Penn Ave NE\, Atlanta\, GA\, 30308\, United States
END:VEVENT
BEGIN:VEVENT
DTSTART;TZID=America/New_York:20230126T183000
DTEND;TZID=America/New_York:20230126T203000
DTSTAMP:20260423T190931
CREATED:20230103T204205Z
LAST-MODIFIED:20230103T204329Z
UID:10000173-1674757800-1674765000@midtownatlanta.org
SUMMARY:Midtown Annual Meeting
DESCRIPTION:Please visit the Annual Meeting page for exciting details on our 55th Midtown Annual Meeting.  This year\, we will return to the beloved tradition of our spaghetti dinner at Park Tavern.  See you there!
URL:https://midtownatlanta.org/events/midtown-annual-meeting/
LOCATION:Park Tavern\, 500 10th Street NE\, Atlanta\, GA\, 30309\, United States
END:VEVENT
END:VCALENDAR