BEGIN:VCALENDAR
VERSION:2.0
PRODID:-//Midtownatlanta.org - ECPv6.7.0//NONSGML v1.0//EN
CALSCALE:GREGORIAN
METHOD:PUBLISH
X-ORIGINAL-URL:https://midtownatlanta.org
X-WR-CALDESC:Events for Midtownatlanta.org
REFRESH-INTERVAL;VALUE=DURATION:PT1H
X-Robots-Tag:noindex
X-PUBLISHED-TTL:PT1H
BEGIN:VTIMEZONE
TZID:America/New_York
BEGIN:DAYLIGHT
TZOFFSETFROM:-0500
TZOFFSETTO:-0400
TZNAME:EDT
DTSTART:20230312T070000
END:DAYLIGHT
BEGIN:STANDARD
TZOFFSETFROM:-0400
TZOFFSETTO:-0500
TZNAME:EST
DTSTART:20231105T060000
END:STANDARD
END:VTIMEZONE
BEGIN:VEVENT
DTSTART;TZID=America/New_York:20230923T110000
DTEND;TZID=America/New_York:20230923T140000
DTSTAMP:20260423T010138
CREATED:20230120T151057Z
LAST-MODIFIED:20230120T151158Z
UID:10000177-1695466800-1695477600@midtownatlanta.org
SUMMARY:AIDS Walk Atlanta & Music Festival
DESCRIPTION:While the world moves on\, AIDS Walk Atlanta takes a stand. AIDS Walk Atlanta works to bring attention to this pressing issue\, educate and inspire our community to work together\, and end the epidemic once and for all. The organization walks for the nearly 40\,000 people living with HIV in Atlanta\, to remember those who no longer can\, and to remind you that you are not alone.
URL:https://midtownatlanta.org/events/aids-walk-atlanta-music-festival/
LOCATION:Piedmont Park\, 400 Park Dr NE\, Atlanta\, GA\, 30309\, United States
END:VEVENT
END:VCALENDAR