BEGIN:VCALENDAR
VERSION:2.0
PRODID:-//Midtownatlanta.org - ECPv6.7.0//NONSGML v1.0//EN
CALSCALE:GREGORIAN
METHOD:PUBLISH
X-WR-CALNAME:Midtownatlanta.org
X-ORIGINAL-URL:https://midtownatlanta.org
X-WR-CALDESC:Events for Midtownatlanta.org
REFRESH-INTERVAL;VALUE=DURATION:PT1H
X-Robots-Tag:noindex
X-PUBLISHED-TTL:PT1H
BEGIN:VTIMEZONE
TZID:America/New_York
BEGIN:DAYLIGHT
TZOFFSETFROM:-0500
TZOFFSETTO:-0400
TZNAME:EDT
DTSTART:20260308T070000
END:DAYLIGHT
BEGIN:STANDARD
TZOFFSETFROM:-0400
TZOFFSETTO:-0500
TZNAME:EST
DTSTART:20261101T060000
END:STANDARD
END:VTIMEZONE
BEGIN:VEVENT
DTSTART;TZID=America/New_York:20260421T183000
DTEND;TZID=America/New_York:20260421T213000
DTSTAMP:20260419T161845
CREATED:20260114T125407Z
LAST-MODIFIED:20260114T125544Z
UID:10001169-1776796200-1776807000@midtownatlanta.org
SUMMARY:Land Use Committee Meeting
DESCRIPTION:Please visit the Land Use Committee to learn more about what we do\, review the current agenda and to register to attend this virtual committee meeting.
URL:https://midtownatlanta.org/events/land-use-committee-meeting-2/2026-04-21/
LOCATION:Zoom Virtual Webinar
END:VEVENT
BEGIN:VEVENT
DTSTART;TZID=America/New_York:20260428T180000
DTEND;TZID=America/New_York:20260428T200000
DTSTAMP:20260419T161845
CREATED:20260217T222035Z
LAST-MODIFIED:20260217T222035Z
UID:10001238-1777399200-1777406400@midtownatlanta.org
SUMMARY:License and Permits Committee Meeting
DESCRIPTION:Please visit the License and Permits Committee page to learn more about what we do\, review the current agenda\, and to register to attend this virtual committee meeting.
URL:https://midtownatlanta.org/events/license-and-permits-committee-meeting-2-2/2026-04-28/
LOCATION:Zoom Virtual Webinar
ORGANIZER;CN="Midtown Neighbors' Association":MAILTO:info@midtownatlanta.org
END:VEVENT
BEGIN:VEVENT
DTSTART;TZID=America/New_York:20260430T183000
DTEND;TZID=America/New_York:20260430T203000
DTSTAMP:20260419T161845
CREATED:20260125T201540Z
LAST-MODIFIED:20260225T223717Z
UID:10001228-1777573800-1777581000@midtownatlanta.org
SUMMARY:Midtown Community Meeting
DESCRIPTION:Please visit the Board of Directors page to learn more about what we do to educate\, advocate\, and connect our Midtown Neighborhood.  You can join us in person or click here to register to attend this monthly overview of our progress on Midtown topics that are important to our community.  The full agenda can be viewed here.
URL:https://midtownatlanta.org/events/community-meeting-2026/2026-04-30/
LOCATION:Zoom Virtual Webinar
ORGANIZER;CN="Midtown Neighbors' Association":MAILTO:info@midtownatlanta.org
END:VEVENT
END:VCALENDAR