BEGIN:VCALENDAR
VERSION:2.0
PRODID:-//Midtownatlanta.org - ECPv6.7.0//NONSGML v1.0//EN
CALSCALE:GREGORIAN
METHOD:PUBLISH
X-WR-CALNAME:Midtownatlanta.org
X-ORIGINAL-URL:https://midtownatlanta.org
X-WR-CALDESC:Events for Midtownatlanta.org
REFRESH-INTERVAL;VALUE=DURATION:PT1H
X-Robots-Tag:noindex
X-PUBLISHED-TTL:PT1H
BEGIN:VTIMEZONE
TZID:America/New_York
BEGIN:DAYLIGHT
TZOFFSETFROM:-0500
TZOFFSETTO:-0400
TZNAME:EDT
DTSTART:20220313T070000
END:DAYLIGHT
BEGIN:STANDARD
TZOFFSETFROM:-0400
TZOFFSETTO:-0500
TZNAME:EST
DTSTART:20221106T060000
END:STANDARD
END:VTIMEZONE
BEGIN:VEVENT
DTSTART;TZID=America/New_York:20220315T190000
DTEND;TZID=America/New_York:20220315T203000
DTSTAMP:20260424T153718
CREATED:20220629T202105Z
LAST-MODIFIED:20220629T203004Z
UID:10000300-1647370800-1647376200@midtownatlanta.org
SUMMARY:Land Use Committee Meeting
DESCRIPTION:Please visit the Land Use Committee to learn more about what we do and to register to attend this virtual committee meeting!
URL:https://midtownatlanta.org/events/land-use-committee-meeting/2022-03-15/
LOCATION:Zoom Virtual Webinar
END:VEVENT
BEGIN:VEVENT
DTSTART;TZID=America/New_York:20220310T183000
DTEND;TZID=America/New_York:20220310T193000
DTSTAMP:20260424T153718
CREATED:20220117T201446Z
LAST-MODIFIED:20220907T234103Z
UID:10000265-1646937000-1646940600@midtownatlanta.org
SUMMARY:Infrastructure Committee Meeting
DESCRIPTION:Please visit the Infrastructure Committee page to learn more about what we do and to register to attend this virtual committee meeting!
URL:https://midtownatlanta.org/events/infrastructure-committee-meeting/2022-03-10/
LOCATION:Zoom Virtual Webinar
END:VEVENT
BEGIN:VEVENT
DTSTART;TZID=America/New_York:20220309T170000
DTEND;TZID=America/New_York:20220309T180000
DTSTAMP:20260424T153718
CREATED:20220214T164115Z
LAST-MODIFIED:20220214T164115Z
UID:10000288-1646845200-1646848800@midtownatlanta.org
SUMMARY:Community Ped/Bike Connection Meeting
DESCRIPTION:Join your neighbor Dan Cooper\, Infrastructure Chairman\, and Sam Wilmoth with CORO Realty for an on site\, in person discussion about a possible pedestrian / bike connection between our neighborhood and the Midtown Place shopping center. \nClick on the flyer to get details and download to share with more neighbors! \nDiscussion will include design\, function\, and impact on neighborhood.  Please don’t miss this.   \n 
URL:https://midtownatlanta.org/events/community-ped-bike-connection-meeting/
LOCATION:Lakeview Avenue & St. Charles Avenue\, 597 St Charles Avenue\, Atlanta\, GA\, 30308\, United States
ORGANIZER;CN="MNA Infrastructure Committee":MAILTO:infrastructure@midtownatlanta.org
END:VEVENT
BEGIN:VEVENT
DTSTART;TZID=America/New_York:20220308T173000
DTEND;TZID=America/New_York:20220308T193000
DTSTAMP:20260424T153718
CREATED:20220117T193625Z
LAST-MODIFIED:20220117T195002Z
UID:10000194-1646760600-1646767800@midtownatlanta.org
SUMMARY:Development Review Committee Meeting
DESCRIPTION:The City of Atlanta’s Development Review Committee (DRC) for Special Public Interest (SPI) Zones 16 & 17 meets monthly to review building proposals in the Midtown Improvement District (“the high-rise section”). The DRC is composed of shareholders of the Midtown Neighborhood including the Midtown Neighbors’ Association\, residents\, business owners and institutions. The Midtown Alliance serves as the administrator of the DRC. \nIf you are interested in big projects happening in the MID\, you are invited to listen to these monthly meetings. \nPlease visit the DRC’s page for sign up information\, dates\, project recaps and more.
URL:https://midtownatlanta.org/events/development-review-committee-meeting/2022-03-08/
LOCATION:Midtown Alliance – Virtual
END:VEVENT
BEGIN:VEVENT
DTSTART;TZID=America/New_York:20220302T183000
DTEND;TZID=America/New_York:20220302T193000
DTSTAMP:20260424T153718
CREATED:20220117T201608Z
LAST-MODIFIED:20220810T192540Z
UID:10000276-1646245800-1646249400@midtownatlanta.org
SUMMARY:Social Committee Meeting
DESCRIPTION:Please visit the Social Committee page to learn more about what we do and to register to attend this virtual committee meeting!
URL:https://midtownatlanta.org/events/social-committee-meeting/2022-03-02/
LOCATION:Zoom Virtual Webinar
END:VEVENT
BEGIN:VEVENT
DTSTART;TZID=America/New_York:20220301T183000
DTEND;TZID=America/New_York:20220301T203000
DTSTAMP:20260424T153718
CREATED:20220117T193022Z
LAST-MODIFIED:20220117T195356Z
UID:10000183-1646159400-1646166600@midtownatlanta.org
SUMMARY:NPU-E Meeting
DESCRIPTION:Neighborhood Planning Units (NPUs) are citizen advisory councils that make recommendations to the Mayor and City Council on zoning\, land-use\, special exception permits\, special event permits\, and liquor licensing.  The NPU system was established in 1974 to provide an opportunity for citizens to participate actively in the Comprehensive Development Plan\, which is the City’s vision for the next 5\, 10\, and 15 years.  It is also used as a way for the citizens to receive information concerning all functions of City government.  The system enables the citizens to express ideas and comment on City plans and proposals while assisting the City in developing plans which best meet the needs of residents. \nThe Midtown Neighbors’ Association is a member of NPU-E and the MNA President sits on the NPU-E Board representing Midtown residents.  MNA meets with all Midtown Land Use and License and Permit applicants prior to NPU-E meetings and makes a vote to oppose or not oppose an application.  Visit our MNA site pages for more information on our LUC and LPC process. \nFor the latest schedule\, information\, and meeting registration\, please visit the NPU-E website.
URL:https://midtownatlanta.org/events/npu-e-meeting/2022-03-01/
LOCATION:Zoom Virtual Webinar
END:VEVENT
BEGIN:VEVENT
DTSTART;TZID=America/New_York:20220226T090000
DTEND;TZID=America/New_York:20220226T110000
DTSTAMP:20260424T153718
CREATED:20220209T161133Z
LAST-MODIFIED:20220209T162012Z
UID:10000287-1645866000-1645873200@midtownatlanta.org
SUMMARY:VIBE Meet-up & Clean-up
DESCRIPTION:Join the MNA VIBE Committee to discuss upcoming projects from 9:00 – 9:30 AM.  Then\, stay to roll-up your sleeves for a neighborhood clean-up project from 9:30 – 11:00 AM. \nVIBE projects focus on keeping our neighborhood tidy which makes residents happy and has the added benefit of enhancing public safety.  Want to learn more about being a part of this? Please visit the VIBE Committee page to learn more about what we do and to register to attend this in-person committee meeting!
URL:https://midtownatlanta.org/events/vibe-meet-up-clean-up/
END:VEVENT
BEGIN:VEVENT
DTSTART;TZID=America/New_York:20220224T183000
DTEND;TZID=America/New_York:20220224T203000
DTSTAMP:20260424T153718
CREATED:20220117T200506Z
LAST-MODIFIED:20220629T202817Z
UID:10000226-1645727400-1645734600@midtownatlanta.org
SUMMARY:Board Meeting
DESCRIPTION:Please visit the Board Meeting page to learn more about what we do and to register to attend this virtual board meeting!
URL:https://midtownatlanta.org/events/board-meeting-2022-02-24/2022-02-24/
LOCATION:Zoom Virtual Webinar
END:VEVENT
BEGIN:VEVENT
DTSTART;TZID=America/New_York:20220223T183000
DTEND;TZID=America/New_York:20220223T203000
DTSTAMP:20260424T153718
CREATED:20220117T195757Z
LAST-MODIFIED:20221022T114846Z
UID:10000205-1645641000-1645648200@midtownatlanta.org
SUMMARY:License and Permits Committee Meeting
DESCRIPTION:Please visit the License and Permits Committee page to learn more about what we do and to register to attend this virtual committee meeting!
URL:https://midtownatlanta.org/events/license-and-permits-committee-meeting/2022-02-23/
LOCATION:Zoom Virtual Webinar
END:VEVENT
BEGIN:VEVENT
DTSTART;TZID=America/New_York:20220223T183000
DTEND;TZID=America/New_York:20220223T193000
DTSTAMP:20260424T153718
CREATED:20220117T200845Z
LAST-MODIFIED:20220926T221853Z
UID:10000238-1645641000-1645644600@midtownatlanta.org
SUMMARY:Gardens Committee Meeting
DESCRIPTION:Please visit the Gardens Committee page to learn more about what we do and to register to attend this in-person committee meeting!
URL:https://midtownatlanta.org/events/gardens-committee-meeting/2022-02-23/
LOCATION:TBA – In-person
END:VEVENT
BEGIN:VEVENT
DTSTART;TZID=America/New_York:20220216T183000
DTEND;TZID=America/New_York:20220216T203000
DTSTAMP:20260424T153718
CREATED:20220117T201108Z
LAST-MODIFIED:20221220T205109Z
UID:10000251-1645036200-1645043400@midtownatlanta.org
SUMMARY:Safety Committee Meeting
DESCRIPTION:Please visit the Safety Committee page to learn more about what we do and to register to attend this virtual committee meeting!
URL:https://midtownatlanta.org/events/safety-committee-meeting/2022-02-16/
LOCATION:Zoom Virtual Webinar
END:VEVENT
BEGIN:VEVENT
DTSTART;TZID=America/New_York:20220215T190000
DTEND;TZID=America/New_York:20220215T203000
DTSTAMP:20260424T153718
CREATED:20220629T202105Z
LAST-MODIFIED:20220629T203004Z
UID:10000299-1644951600-1644957000@midtownatlanta.org
SUMMARY:Land Use Committee Meeting
DESCRIPTION:Please visit the Land Use Committee to learn more about what we do and to register to attend this virtual committee meeting!
URL:https://midtownatlanta.org/events/land-use-committee-meeting/2022-02-15/
LOCATION:Zoom Virtual Webinar
END:VEVENT
BEGIN:VEVENT
DTSTART;TZID=America/New_York:20220210T183000
DTEND;TZID=America/New_York:20220210T193000
DTSTAMP:20260424T153718
CREATED:20220117T201446Z
LAST-MODIFIED:20220907T234103Z
UID:10000264-1644517800-1644521400@midtownatlanta.org
SUMMARY:Infrastructure Committee Meeting
DESCRIPTION:Please visit the Infrastructure Committee page to learn more about what we do and to register to attend this virtual committee meeting!
URL:https://midtownatlanta.org/events/infrastructure-committee-meeting/2022-02-10/
LOCATION:Zoom Virtual Webinar
END:VEVENT
BEGIN:VEVENT
DTSTART;TZID=America/New_York:20220208T173000
DTEND;TZID=America/New_York:20220208T193000
DTSTAMP:20260424T153718
CREATED:20220117T193625Z
LAST-MODIFIED:20220117T195002Z
UID:10000193-1644341400-1644348600@midtownatlanta.org
SUMMARY:Development Review Committee Meeting
DESCRIPTION:The City of Atlanta’s Development Review Committee (DRC) for Special Public Interest (SPI) Zones 16 & 17 meets monthly to review building proposals in the Midtown Improvement District (“the high-rise section”). The DRC is composed of shareholders of the Midtown Neighborhood including the Midtown Neighbors’ Association\, residents\, business owners and institutions. The Midtown Alliance serves as the administrator of the DRC. \nIf you are interested in big projects happening in the MID\, you are invited to listen to these monthly meetings. \nPlease visit the DRC’s page for sign up information\, dates\, project recaps and more.
URL:https://midtownatlanta.org/events/development-review-committee-meeting/2022-02-08/
LOCATION:Midtown Alliance – Virtual
END:VEVENT
BEGIN:VEVENT
DTSTART;TZID=America/New_York:20220202T183000
DTEND;TZID=America/New_York:20220202T193000
DTSTAMP:20260424T153718
CREATED:20220117T201608Z
LAST-MODIFIED:20220810T192540Z
UID:10000275-1643826600-1643830200@midtownatlanta.org
SUMMARY:Social Committee Meeting
DESCRIPTION:Please visit the Social Committee page to learn more about what we do and to register to attend this virtual committee meeting!
URL:https://midtownatlanta.org/events/social-committee-meeting/2022-02-02/
LOCATION:Zoom Virtual Webinar
END:VEVENT
BEGIN:VEVENT
DTSTART;TZID=America/New_York:20220201T183000
DTEND;TZID=America/New_York:20220201T203000
DTSTAMP:20260424T153718
CREATED:20220117T193022Z
LAST-MODIFIED:20220117T195356Z
UID:10000182-1643740200-1643747400@midtownatlanta.org
SUMMARY:NPU-E Meeting
DESCRIPTION:Neighborhood Planning Units (NPUs) are citizen advisory councils that make recommendations to the Mayor and City Council on zoning\, land-use\, special exception permits\, special event permits\, and liquor licensing.  The NPU system was established in 1974 to provide an opportunity for citizens to participate actively in the Comprehensive Development Plan\, which is the City’s vision for the next 5\, 10\, and 15 years.  It is also used as a way for the citizens to receive information concerning all functions of City government.  The system enables the citizens to express ideas and comment on City plans and proposals while assisting the City in developing plans which best meet the needs of residents. \nThe Midtown Neighbors’ Association is a member of NPU-E and the MNA President sits on the NPU-E Board representing Midtown residents.  MNA meets with all Midtown Land Use and License and Permit applicants prior to NPU-E meetings and makes a vote to oppose or not oppose an application.  Visit our MNA site pages for more information on our LUC and LPC process. \nFor the latest schedule\, information\, and meeting registration\, please visit the NPU-E website.
URL:https://midtownatlanta.org/events/npu-e-meeting/2022-02-01/
LOCATION:Zoom Virtual Webinar
END:VEVENT
BEGIN:VEVENT
DTSTART;TZID=America/New_York:20220131T183000
DTEND;TZID=America/New_York:20220131T203000
DTSTAMP:20260424T153718
CREATED:20220117T200506Z
LAST-MODIFIED:20220117T202836Z
UID:10000224-1643653800-1643661000@midtownatlanta.org
SUMMARY:Board Meeting
DESCRIPTION:Please visit the Board Meeting page to learn more about what we do and to register to attend this virtual board meeting!
URL:https://midtownatlanta.org/events/board-meeting/
LOCATION:Zoom Virtual Webinar
END:VEVENT
BEGIN:VEVENT
DTSTART;TZID=America/New_York:20220127T183000
DTEND;TZID=America/New_York:20220127T203000
DTSTAMP:20260424T153718
CREATED:20220117T203017Z
LAST-MODIFIED:20220117T203017Z
UID:10000286-1643308200-1643315400@midtownatlanta.org
SUMMARY:Annual Meeting - 2022
DESCRIPTION:Please visit the Annual Meeting page to register to attend this virtual annual meeting!
URL:https://midtownatlanta.org/events/annual-meeting-2022/
LOCATION:Zoom Virtual Webinar
END:VEVENT
BEGIN:VEVENT
DTSTART;TZID=America/New_York:20220126T183000
DTEND;TZID=America/New_York:20220126T203000
DTSTAMP:20260424T153718
CREATED:20220117T195757Z
LAST-MODIFIED:20221022T114846Z
UID:10000204-1643221800-1643229000@midtownatlanta.org
SUMMARY:License and Permits Committee Meeting
DESCRIPTION:Please visit the License and Permits Committee page to learn more about what we do and to register to attend this virtual committee meeting!
URL:https://midtownatlanta.org/events/license-and-permits-committee-meeting/2022-01-26/
LOCATION:Zoom Virtual Webinar
END:VEVENT
BEGIN:VEVENT
DTSTART;TZID=America/New_York:20220126T183000
DTEND;TZID=America/New_York:20220126T193000
DTSTAMP:20260424T153718
CREATED:20220117T200845Z
LAST-MODIFIED:20220926T221853Z
UID:10000237-1643221800-1643225400@midtownatlanta.org
SUMMARY:Gardens Committee Meeting
DESCRIPTION:Please visit the Gardens Committee page to learn more about what we do and to register to attend this in-person committee meeting!
URL:https://midtownatlanta.org/events/gardens-committee-meeting/2022-01-26/
LOCATION:TBA – In-person
END:VEVENT
BEGIN:VEVENT
DTSTART;TZID=America/New_York:20220119T183000
DTEND;TZID=America/New_York:20220119T203000
DTSTAMP:20260424T153718
CREATED:20220117T201108Z
LAST-MODIFIED:20221220T205109Z
UID:10000250-1642617000-1642624200@midtownatlanta.org
SUMMARY:Safety Committee Meeting
DESCRIPTION:Please visit the Safety Committee page to learn more about what we do and to register to attend this virtual committee meeting!
URL:https://midtownatlanta.org/events/safety-committee-meeting/2022-01-19/
LOCATION:Zoom Virtual Webinar
END:VEVENT
BEGIN:VEVENT
DTSTART;TZID=America/New_York:20220118T190000
DTEND;TZID=America/New_York:20220118T203000
DTSTAMP:20260424T153718
CREATED:20220629T202105Z
LAST-MODIFIED:20220629T203004Z
UID:10000298-1642532400-1642537800@midtownatlanta.org
SUMMARY:Land Use Committee Meeting
DESCRIPTION:Please visit the Land Use Committee to learn more about what we do and to register to attend this virtual committee meeting!
URL:https://midtownatlanta.org/events/land-use-committee-meeting/2022-01-18/
LOCATION:Zoom Virtual Webinar
END:VEVENT
BEGIN:VEVENT
DTSTART;TZID=America/New_York:20220113T183000
DTEND;TZID=America/New_York:20220113T193000
DTSTAMP:20260424T153718
CREATED:20220117T201446Z
LAST-MODIFIED:20220907T234103Z
UID:10000263-1642098600-1642102200@midtownatlanta.org
SUMMARY:Infrastructure Committee Meeting
DESCRIPTION:Please visit the Infrastructure Committee page to learn more about what we do and to register to attend this virtual committee meeting!
URL:https://midtownatlanta.org/events/infrastructure-committee-meeting/2022-01-13/
LOCATION:Zoom Virtual Webinar
END:VEVENT
BEGIN:VEVENT
DTSTART;TZID=America/New_York:20220104T183000
DTEND;TZID=America/New_York:20220104T203000
DTSTAMP:20260424T153718
CREATED:20220117T193022Z
LAST-MODIFIED:20220117T195356Z
UID:10000181-1641321000-1641328200@midtownatlanta.org
SUMMARY:NPU-E Meeting
DESCRIPTION:Neighborhood Planning Units (NPUs) are citizen advisory councils that make recommendations to the Mayor and City Council on zoning\, land-use\, special exception permits\, special event permits\, and liquor licensing.  The NPU system was established in 1974 to provide an opportunity for citizens to participate actively in the Comprehensive Development Plan\, which is the City’s vision for the next 5\, 10\, and 15 years.  It is also used as a way for the citizens to receive information concerning all functions of City government.  The system enables the citizens to express ideas and comment on City plans and proposals while assisting the City in developing plans which best meet the needs of residents. \nThe Midtown Neighbors’ Association is a member of NPU-E and the MNA President sits on the NPU-E Board representing Midtown residents.  MNA meets with all Midtown Land Use and License and Permit applicants prior to NPU-E meetings and makes a vote to oppose or not oppose an application.  Visit our MNA site pages for more information on our LUC and LPC process. \nFor the latest schedule\, information\, and meeting registration\, please visit the NPU-E website.
URL:https://midtownatlanta.org/events/npu-e-meeting/2022-01-04/
LOCATION:Zoom Virtual Webinar
END:VEVENT
END:VCALENDAR