BEGIN:VCALENDAR
VERSION:2.0
PRODID:-//Midtownatlanta.org - ECPv6.7.0//NONSGML v1.0//EN
CALSCALE:GREGORIAN
METHOD:PUBLISH
X-WR-CALNAME:Midtownatlanta.org
X-ORIGINAL-URL:https://midtownatlanta.org
X-WR-CALDESC:Events for Midtownatlanta.org
REFRESH-INTERVAL;VALUE=DURATION:PT1H
X-Robots-Tag:noindex
X-PUBLISHED-TTL:PT1H
BEGIN:VTIMEZONE
TZID:America/New_York
BEGIN:DAYLIGHT
TZOFFSETFROM:-0500
TZOFFSETTO:-0400
TZNAME:EDT
DTSTART:20220313T070000
END:DAYLIGHT
BEGIN:STANDARD
TZOFFSETFROM:-0400
TZOFFSETTO:-0500
TZNAME:EST
DTSTART:20221106T060000
END:STANDARD
BEGIN:DAYLIGHT
TZOFFSETFROM:-0500
TZOFFSETTO:-0400
TZNAME:EDT
DTSTART:20230312T070000
END:DAYLIGHT
BEGIN:STANDARD
TZOFFSETFROM:-0400
TZOFFSETTO:-0500
TZNAME:EST
DTSTART:20231105T060000
END:STANDARD
END:VTIMEZONE
BEGIN:VEVENT
DTSTART;TZID=America/New_York:20230130T183000
DTEND;TZID=America/New_York:20230130T203000
DTSTAMP:20260421T032549
CREATED:20230108T210829Z
LAST-MODIFIED:20230108T210901Z
UID:10000408-1675103400-1675110600@midtownatlanta.org
SUMMARY:Board Meeting
DESCRIPTION:Please visit the Board Meeting page to learn more about what we do and to register to attend this virtual board meeting!
URL:https://midtownatlanta.org/events/board-meeting-2022-02-24-copy-copy/
LOCATION:Zoom Virtual Webinar
END:VEVENT
BEGIN:VEVENT
DTSTART;TZID=America/New_York:20230126T183000
DTEND;TZID=America/New_York:20230126T203000
DTSTAMP:20260421T032549
CREATED:20230103T204205Z
LAST-MODIFIED:20230103T204329Z
UID:10000173-1674757800-1674765000@midtownatlanta.org
SUMMARY:Midtown Annual Meeting
DESCRIPTION:Please visit the Annual Meeting page for exciting details on our 55th Midtown Annual Meeting.  This year\, we will return to the beloved tradition of our spaghetti dinner at Park Tavern.  See you there!
URL:https://midtownatlanta.org/events/midtown-annual-meeting/
LOCATION:Park Tavern\, 500 10th Street NE\, Atlanta\, GA\, 30309\, United States
END:VEVENT
BEGIN:VEVENT
DTSTART;TZID=America/New_York:20230124T190000
DTEND;TZID=America/New_York:20230124T203000
DTSTAMP:20260421T032549
CREATED:20230108T212025Z
LAST-MODIFIED:20230108T212056Z
UID:10000409-1674586800-1674592200@midtownatlanta.org
SUMMARY:Land Use Committee Meeting
DESCRIPTION:Please visit the Land Use Committee to learn more about what we do and to register to attend this virtual committee meeting!
URL:https://midtownatlanta.org/events/land-use-committee-meeting-copy-copy/
LOCATION:Zoom Virtual Webinar
END:VEVENT
BEGIN:VEVENT
DTSTART;TZID=America/New_York:20230124T183000
DTEND;TZID=America/New_York:20230124T203000
DTSTAMP:20260421T032549
CREATED:20230108T203102Z
LAST-MODIFIED:20230108T203352Z
UID:10000364-1674585000-1674592200@midtownatlanta.org
SUMMARY:License and Permits Committee Meeting
DESCRIPTION:Please visit the License and Permits Committee page to learn more about what we do and to register to attend this virtual committee meeting!
URL:https://midtownatlanta.org/events/license-and-permits-committee-meeting-copy-copy/2023-01-24/
LOCATION:Zoom Virtual Webinar
END:VEVENT
BEGIN:VEVENT
DTSTART;TZID=America/New_York:20230118T183000
DTEND;TZID=America/New_York:20230118T203000
DTSTAMP:20260421T032549
CREATED:20230108T202402Z
LAST-MODIFIED:20231209T201523Z
UID:10000343-1674066600-1674073800@midtownatlanta.org
SUMMARY:Safety Committee Meeting
DESCRIPTION:Please visit the Safety Committee page to learn more about what we do and to register to attend this virtual committee meeting!
URL:https://midtownatlanta.org/events/safety-committee-meeting-copy/2023-01-18/
LOCATION:Zoom Virtual Webinar
END:VEVENT
BEGIN:VEVENT
DTSTART;TZID=America/New_York:20230117T183000
DTEND;TZID=America/New_York:20230117T200000
DTSTAMP:20260421T032549
CREATED:20230103T203237Z
LAST-MODIFIED:20230103T203755Z
UID:10000171-1673980200-1673985600@midtownatlanta.org
SUMMARY:ATL Zoning 2.0: Workshop 2: Citywide Alternatives Continued
DESCRIPTION:CLICK THE FLYER BELOW TO HEAD TO DCP ATL ZONING 2.0 SITE FOR MORE DETAILS ON THIS IMPORTANT INITIATIVE
URL:https://midtownatlanta.org/events/atl-zoning-2-0-workshop-2-citywide-alternatives-continued/
LOCATION:R.I.C.E\, 504 Fair Street SW\, Atlanta\, GA\, 30313\, United States
END:VEVENT
BEGIN:VEVENT
DTSTART;TZID=America/New_York:20230101T090000
DTEND;TZID=America/New_York:20230101T120000
DTSTAMP:20260421T032549
CREATED:20230120T150028Z
LAST-MODIFIED:20230120T150028Z
UID:10000179-1672563600-1672574400@midtownatlanta.org
SUMMARY:Time Travel Half Marathon
DESCRIPTION:Celebrate kicking off the New Year right and come Time Travel. You can run a single event on Saturday or Sunday\, OR pick a distance on Saturday AND Sunday to complete a special back-to-back Time Travel challenge\, earning the exclusive challenge pins AND getting 1/2 off the second registration (of lower value). You can do back-to-back days of the same distance\, or mix it up! Pick your first day and you will be prompted at registration to add a second event for 50% off! \nYou’ll be doing the hustle through the far-out miles of this tubular race man! With all the other cool groovy chicks and dudes joining you on this radical run. So grab your cool threads\, call your friends on the horn and get them to doo-whop their way down to the Time Travel race. A blast to kick off your new year. \nThis is a fun\, family event for all ages with all distances!
URL:https://midtownatlanta.org/events/time-travel-half-marathon/
LOCATION:Piedmont Park\, 400 Park Dr NE\, Atlanta\, GA\, 30309\, United States
END:VEVENT
BEGIN:VEVENT
DTSTART;TZID=America/New_York:20221231T220000
DTEND;TZID=America/New_York:20230101T013000
DTSTAMP:20260421T032549
CREATED:20230120T153232Z
LAST-MODIFIED:20230120T153355Z
UID:10000170-1672524000-1672536600@midtownatlanta.org
SUMMARY:Resolution Run 5K
DESCRIPTION:Jumpstart your New Year with the 2023 Resolution Run 5K. What better way to kick off those resolutions than to toe the first start line of 2023. Held on the Georgia Tech Campus\, the race will set off as the clock strikes midnight and finish inside Bobby Dodd Stadium.
URL:https://midtownatlanta.org/events/resolution-run-5k/
LOCATION:Various locations – see route map
END:VEVENT
BEGIN:VEVENT
DTSTART;TZID=America/New_York:20221229T183000
DTEND;TZID=America/New_York:20221229T203000
DTSTAMP:20260421T032549
CREATED:20220117T200506Z
LAST-MODIFIED:20220629T202817Z
UID:10000236-1672338600-1672345800@midtownatlanta.org
SUMMARY:Board Meeting
DESCRIPTION:Please visit the Board Meeting page to learn more about what we do and to register to attend this virtual board meeting!
URL:https://midtownatlanta.org/events/board-meeting-2022-02-24/2022-12-29/
LOCATION:Zoom Virtual Webinar
END:VEVENT
BEGIN:VEVENT
DTSTART;TZID=America/New_York:20221228T183000
DTEND;TZID=America/New_York:20221228T203000
DTSTAMP:20260421T032549
CREATED:20220117T195757Z
LAST-MODIFIED:20221022T114846Z
UID:10000216-1672252200-1672259400@midtownatlanta.org
SUMMARY:License and Permits Committee Meeting
DESCRIPTION:Please visit the License and Permits Committee page to learn more about what we do and to register to attend this virtual committee meeting!
URL:https://midtownatlanta.org/events/license-and-permits-committee-meeting/2022-12-28/
LOCATION:Zoom Virtual Webinar
END:VEVENT
BEGIN:VEVENT
DTSTART;TZID=America/New_York:20221228T183000
DTEND;TZID=America/New_York:20221228T193000
DTSTAMP:20260421T032549
CREATED:20220117T200845Z
LAST-MODIFIED:20220926T221853Z
UID:10000248-1672252200-1672255800@midtownatlanta.org
SUMMARY:Gardens Committee Meeting
DESCRIPTION:Please visit the Gardens Committee page to learn more about what we do and to register to attend this in-person committee meeting!
URL:https://midtownatlanta.org/events/gardens-committee-meeting/2022-12-28/
LOCATION:TBA – In-person
END:VEVENT
BEGIN:VEVENT
DTSTART;TZID=America/New_York:20221227T183000
DTEND;TZID=America/New_York:20221227T203000
DTSTAMP:20260421T032549
CREATED:20220117T195757Z
LAST-MODIFIED:20221022T114846Z
UID:10000215-1672165800-1672173000@midtownatlanta.org
SUMMARY:License and Permits Committee Meeting
DESCRIPTION:Please visit the License and Permits Committee page to learn more about what we do and to register to attend this virtual committee meeting!
URL:https://midtownatlanta.org/events/license-and-permits-committee-meeting/2022-12-27/
LOCATION:Zoom Virtual Webinar
END:VEVENT
BEGIN:VEVENT
DTSTART;TZID=America/New_York:20221221T183000
DTEND;TZID=America/New_York:20221221T203000
DTSTAMP:20260421T032549
CREATED:20220117T201108Z
LAST-MODIFIED:20221220T205109Z
UID:10000261-1671647400-1671654600@midtownatlanta.org
SUMMARY:Safety Committee Meeting
DESCRIPTION:Please visit the Safety Committee page to learn more about what we do and to register to attend this virtual committee meeting!
URL:https://midtownatlanta.org/events/safety-committee-meeting/2022-12-21/
LOCATION:Zoom Virtual Webinar
END:VEVENT
BEGIN:VEVENT
DTSTART;TZID=America/New_York:20221220T190000
DTEND;TZID=America/New_York:20221220T203000
DTSTAMP:20260421T032550
CREATED:20220629T202105Z
LAST-MODIFIED:20220629T203004Z
UID:10000309-1671562800-1671568200@midtownatlanta.org
SUMMARY:Land Use Committee Meeting
DESCRIPTION:Please visit the Land Use Committee to learn more about what we do and to register to attend this virtual committee meeting!
URL:https://midtownatlanta.org/events/land-use-committee-meeting/2022-12-20/
LOCATION:Zoom Virtual Webinar
END:VEVENT
BEGIN:VEVENT
DTSTART;TZID=America/New_York:20221214T183000
DTEND;TZID=America/New_York:20221214T193000
DTSTAMP:20260421T032550
CREATED:20220117T200255Z
LAST-MODIFIED:20220209T162045Z
UID:10000223-1671042600-1671046200@midtownatlanta.org
SUMMARY:VIBE Committee Meeting
DESCRIPTION:Please visit the VIBE Committee page to learn more about what we do and to register to attend this in-person committee meeting!
URL:https://midtownatlanta.org/events/vibe-committee-meeting-2022-04-13/2022-12-14/
LOCATION:TBA – In-person
END:VEVENT
BEGIN:VEVENT
DTSTART;TZID=America/New_York:20221213T173000
DTEND;TZID=America/New_York:20221213T193000
DTSTAMP:20260421T032550
CREATED:20220117T193625Z
LAST-MODIFIED:20220117T195002Z
UID:10000203-1670952600-1670959800@midtownatlanta.org
SUMMARY:Development Review Committee Meeting
DESCRIPTION:The City of Atlanta’s Development Review Committee (DRC) for Special Public Interest (SPI) Zones 16 & 17 meets monthly to review building proposals in the Midtown Improvement District (“the high-rise section”). The DRC is composed of shareholders of the Midtown Neighborhood including the Midtown Neighbors’ Association\, residents\, business owners and institutions. The Midtown Alliance serves as the administrator of the DRC. \nIf you are interested in big projects happening in the MID\, you are invited to listen to these monthly meetings. \nPlease visit the DRC’s page for sign up information\, dates\, project recaps and more.
URL:https://midtownatlanta.org/events/development-review-committee-meeting/2022-12-13/
LOCATION:Midtown Alliance – Virtual
END:VEVENT
BEGIN:VEVENT
DTSTART;TZID=America/New_York:20221208T183000
DTEND;TZID=America/New_York:20221208T193000
DTSTAMP:20260421T032550
CREATED:20220117T201446Z
LAST-MODIFIED:20220907T234103Z
UID:10000274-1670524200-1670527800@midtownatlanta.org
SUMMARY:Infrastructure Committee Meeting
DESCRIPTION:Please visit the Infrastructure Committee page to learn more about what we do and to register to attend this virtual committee meeting!
URL:https://midtownatlanta.org/events/infrastructure-committee-meeting/2022-12-08/
LOCATION:Zoom Virtual Webinar
END:VEVENT
BEGIN:VEVENT
DTSTART;TZID=America/New_York:20221207T183000
DTEND;TZID=America/New_York:20221207T193000
DTSTAMP:20260421T032550
CREATED:20220117T201608Z
LAST-MODIFIED:20220810T192540Z
UID:10000285-1670437800-1670441400@midtownatlanta.org
SUMMARY:Social Committee Meeting
DESCRIPTION:Please visit the Social Committee page to learn more about what we do and to register to attend this virtual committee meeting!
URL:https://midtownatlanta.org/events/social-committee-meeting/2022-12-07/
LOCATION:Zoom Virtual Webinar
END:VEVENT
BEGIN:VEVENT
DTSTART;TZID=America/New_York:20221206T183000
DTEND;TZID=America/New_York:20221206T203000
DTSTAMP:20260421T032550
CREATED:20220117T193022Z
LAST-MODIFIED:20220117T195356Z
UID:10000192-1670351400-1670358600@midtownatlanta.org
SUMMARY:NPU-E Meeting
DESCRIPTION:Neighborhood Planning Units (NPUs) are citizen advisory councils that make recommendations to the Mayor and City Council on zoning\, land-use\, special exception permits\, special event permits\, and liquor licensing.  The NPU system was established in 1974 to provide an opportunity for citizens to participate actively in the Comprehensive Development Plan\, which is the City’s vision for the next 5\, 10\, and 15 years.  It is also used as a way for the citizens to receive information concerning all functions of City government.  The system enables the citizens to express ideas and comment on City plans and proposals while assisting the City in developing plans which best meet the needs of residents. \nThe Midtown Neighbors’ Association is a member of NPU-E and the MNA President sits on the NPU-E Board representing Midtown residents.  MNA meets with all Midtown Land Use and License and Permit applicants prior to NPU-E meetings and makes a vote to oppose or not oppose an application.  Visit our MNA site pages for more information on our LUC and LPC process. \nFor the latest schedule\, information\, and meeting registration\, please visit the NPU-E website.
URL:https://midtownatlanta.org/events/npu-e-meeting/2022-12-06/
LOCATION:Zoom Virtual Webinar
END:VEVENT
BEGIN:VEVENT
DTSTART;TZID=America/New_York:20221203T110000
DTEND;TZID=America/New_York:20221203T140000
DTSTAMP:20260421T032550
CREATED:20230120T145905Z
LAST-MODIFIED:20230120T145905Z
UID:10000180-1670065200-1670076000@midtownatlanta.org
SUMMARY:Children's Healthcare of Atlanta- Holly Jolly Celebration
DESCRIPTION:Last year\, Children’s Healthcare of Atlanta reimagined a new holiday tradition to kick off the season. The annual Children’s Holiday Parade was replaced by a day of fun for the entire family at Colony Square’s Season on the Square. \nHighlights of the parade\, like bands and dance groups\, will still play a role in the celebration with an hour-long street performance on Peachtree Street at Colony Square. Meet on Peachtree Street in person or watch on Atlanta News First and Peachtree TV from 11:00am-12:00pm. \nThere are several events and sponsorships that will benefit Children’s\, including a blend of two Children’s traditions – Breakfast with Santa and Smiles for the Season \nIn place of a Parade Grand Marshall\, a Children’s patient will now have the honor of lighting the Christmas Tree at Colony Square to mark the official beginning of the holiday season on the evening of December 2.
URL:https://midtownatlanta.org/events/childrens-healthcare-of-atlanta-holly-jolly-celebration/
LOCATION:Peachtree Street between 14th and 16th streets
END:VEVENT
BEGIN:VEVENT
DTSTART;TZID=America/New_York:20221130T183000
DTEND;TZID=America/New_York:20221130T203000
DTSTAMP:20260421T032550
CREATED:20220117T200506Z
LAST-MODIFIED:20220117T202419Z
UID:10000225-1669833000-1669840200@midtownatlanta.org
SUMMARY:Board Meeting
DESCRIPTION:Please visit the Board Meeting page to learn more about what we do and to register to attend this virtual board meeting!
URL:https://midtownatlanta.org/events/board-meeting-2022-11-24/
LOCATION:Zoom Virtual Webinar
END:VEVENT
BEGIN:VEVENT
DTSTART;TZID=America/New_York:20221130T183000
DTEND;TZID=America/New_York:20221130T203000
DTSTAMP:20260421T032550
CREATED:20220117T195757Z
LAST-MODIFIED:20221022T114846Z
UID:10000214-1669833000-1669840200@midtownatlanta.org
SUMMARY:License and Permits Committee Meeting
DESCRIPTION:Please visit the License and Permits Committee page to learn more about what we do and to register to attend this virtual committee meeting!
URL:https://midtownatlanta.org/events/license-and-permits-committee-meeting/2022-11-30/
LOCATION:Zoom Virtual Webinar
END:VEVENT
BEGIN:VEVENT
DTSTART;TZID=America/New_York:20221130T183000
DTEND;TZID=America/New_York:20221130T193000
DTSTAMP:20260421T032550
CREATED:20220117T200845Z
LAST-MODIFIED:20220926T221853Z
UID:10000247-1669833000-1669836600@midtownatlanta.org
SUMMARY:Gardens Committee Meeting
DESCRIPTION:Please visit the Gardens Committee page to learn more about what we do and to register to attend this in-person committee meeting!
URL:https://midtownatlanta.org/events/gardens-committee-meeting/2022-11-30/
LOCATION:TBA – In-person
END:VEVENT
BEGIN:VEVENT
DTSTART;TZID=America/New_York:20221129T183000
DTEND;TZID=America/New_York:20221129T203000
DTSTAMP:20260421T032550
CREATED:20220117T195757Z
LAST-MODIFIED:20220117T202202Z
UID:10000218-1669746600-1669753800@midtownatlanta.org
SUMMARY:License and Permits Committee Meeting
DESCRIPTION:Please visit the License and Permits Committee page to learn more about what we do and to register to attend this virtual committee meeting!
URL:https://midtownatlanta.org/events/license-and-permits-committee-meeting-2022-11-30/
LOCATION:Zoom Virtual Webinar
END:VEVENT
BEGIN:VEVENT
DTSTART;TZID=America/New_York:20221129T183000
DTEND;TZID=America/New_York:20221129T200000
DTSTAMP:20260421T032550
CREATED:20221128T024910Z
LAST-MODIFIED:20221128T025236Z
UID:10000169-1669746600-1669752000@midtownatlanta.org
SUMMARY:ATLZoning 2.0:  Workshop:  Diagnostic / Citywide Alternatives
DESCRIPTION:Public input is essential to the success of ATL Zoning 2.0.  DCP will be working closely with Atlanta’s residents\, businesses\, and property owners to explore\, draft\, test\, and refine the new Zoning Ordinance and Official Zoning Map well before the official adoption process begins. \nThe process includes thirteen rounds of public meetings and workshops\, not including the official adoption process. \nNext meeting: \nDiagnostic / Citywide Alternatives \nDescription: \nProject updates and a review of potential citywide standards identified in the Zoning Ordinance Diagnostic.  Topics will include the overall approach to the new code\, ways to reflect neighborhood\, housing\, and more. \nRegister to attend in person \nRegister to attend online
URL:https://midtownatlanta.org/events/atlzoning-2-0-workshop-diagnostic-citywide-alternatives/
LOCATION:Virtual Meeting – see flyer for details
END:VEVENT
BEGIN:VEVENT
DTSTART;TZID=America/New_York:20221129T183000
DTEND;TZID=America/New_York:20221129T193000
DTSTAMP:20260421T032550
CREATED:20220117T200845Z
LAST-MODIFIED:20220117T202616Z
UID:10000249-1669746600-1669750200@midtownatlanta.org
SUMMARY:Gardens Committee Meeting
DESCRIPTION:Please visit the Gardens Committee page to learn more about what we do and to register to attend this in-person committee meeting!
URL:https://midtownatlanta.org/events/gardens-committee-meeting-2022-11-30/
LOCATION:TBA – In-person
END:VEVENT
BEGIN:VEVENT
DTSTART;TZID=America/New_York:20221124T183000
DTEND;TZID=America/New_York:20221124T203000
DTSTAMP:20260421T032550
CREATED:20220117T200506Z
LAST-MODIFIED:20220629T202817Z
UID:10000235-1669314600-1669321800@midtownatlanta.org
SUMMARY:Board Meeting
DESCRIPTION:Please visit the Board Meeting page to learn more about what we do and to register to attend this virtual board meeting!
URL:https://midtownatlanta.org/events/board-meeting-2022-02-24/2022-11-24/
LOCATION:Zoom Virtual Webinar
END:VEVENT
BEGIN:VEVENT
DTSTART;TZID=America/New_York:20221117T173000
DTEND;TZID=America/New_York:20221117T183000
DTSTAMP:20260421T032550
CREATED:20221117T123235Z
LAST-MODIFIED:20221117T124431Z
UID:10000167-1668706200-1668709800@midtownatlanta.org
SUMMARY:5th Street NE Road Restriping / Resurfacing Community Session
DESCRIPTION:Join the ATLDOT for a discussion about an upcoming 5th Street restriping and resurfacing project.  This project will extend a marked bike lane for a portion of 5th Street on the northern curb.  MNA leadership will be present to ask questions and clarify timing.  Please join to share your support or questions about this project. \nSee flyer for QR code or meeting link to join.  Please note that the city requires a meeting code and password as well.  Both are listed on the flyer. \nTonight’s meeting begins a 30-day comment period.  After you join the session\, you can send comments to atldot@atlantaga.gov.  We encourage you to copy infrastructure@midtownatlanta.org as well so that our MNA team is looped in on community perspective as we work with ATL DOT. \nRead the project scope here.  \nYou can find details on the broader resurfacing project here.
URL:https://midtownatlanta.org/events/5th-street-ne-road-restriping-resurfacing-community-session/
LOCATION:Virtual Meeting – see flyer for details
ORGANIZER;CN="ATL DOT":MAILTO:atldot@atlantaga.gov
END:VEVENT
BEGIN:VEVENT
DTSTART;TZID=America/New_York:20221116T183000
DTEND;TZID=America/New_York:20221116T203000
DTSTAMP:20260421T032550
CREATED:20220117T201108Z
LAST-MODIFIED:20221220T205109Z
UID:10000260-1668623400-1668630600@midtownatlanta.org
SUMMARY:Safety Committee Meeting
DESCRIPTION:Please visit the Safety Committee page to learn more about what we do and to register to attend this virtual committee meeting!
URL:https://midtownatlanta.org/events/safety-committee-meeting/2022-11-16/
LOCATION:Zoom Virtual Webinar
END:VEVENT
BEGIN:VEVENT
DTSTART;TZID=America/New_York:20221116T163000
DTEND;TZID=America/New_York:20221116T183000
DTSTAMP:20260421T032550
CREATED:20221116T141630Z
LAST-MODIFIED:20221116T141630Z
UID:10000165-1668616200-1668623400@midtownatlanta.org
SUMMARY:17th Street Corridor Enhancement - Community Visioning Session
DESCRIPTION:Please join the Midtown Alliance for a public visioning session to re-imagine the future of 17th Street! Your input and participation will be used by Midtown Alliance as the foundation to develop future designs. \nDuring this meeting\, you can discuss the challenges and opportunities along 17th Street and share what is wanted and needed along this corridor. \nTHIS IS AN OPEN HOUSE FORMAT.  POP IN ANYTIME.
URL:https://midtownatlanta.org/events/17th-street-corridor-enhancement-community-visioning-session/
LOCATION:Center Stage Theatre\, 1374 West Peachtreet St\, Atlanta\, GA\, 30309\, United States
END:VEVENT
END:VCALENDAR