BEGIN:VCALENDAR
VERSION:2.0
PRODID:-//Midtownatlanta.org - ECPv6.7.0//NONSGML v1.0//EN
CALSCALE:GREGORIAN
METHOD:PUBLISH
X-WR-CALNAME:Midtownatlanta.org
X-ORIGINAL-URL:https://midtownatlanta.org
X-WR-CALDESC:Events for Midtownatlanta.org
REFRESH-INTERVAL;VALUE=DURATION:PT1H
X-Robots-Tag:noindex
X-PUBLISHED-TTL:PT1H
BEGIN:VTIMEZONE
TZID:America/New_York
BEGIN:DAYLIGHT
TZOFFSETFROM:-0500
TZOFFSETTO:-0400
TZNAME:EDT
DTSTART:20230312T070000
END:DAYLIGHT
BEGIN:STANDARD
TZOFFSETFROM:-0400
TZOFFSETTO:-0500
TZNAME:EST
DTSTART:20231105T060000
END:STANDARD
END:VTIMEZONE
BEGIN:VEVENT
DTSTART;TZID=America/New_York:20230419T183000
DTEND;TZID=America/New_York:20230419T203000
DTSTAMP:20260420T195623
CREATED:20230108T202402Z
LAST-MODIFIED:20231209T201523Z
UID:10000346-1681929000-1681936200@midtownatlanta.org
SUMMARY:Safety Committee Meeting
DESCRIPTION:Please visit the Safety Committee page to learn more about what we do and to register to attend this virtual committee meeting!
URL:https://midtownatlanta.org/events/safety-committee-meeting-copy/2023-04-19/
LOCATION:Zoom Virtual Webinar
END:VEVENT
BEGIN:VEVENT
DTSTART;TZID=America/New_York:20230419T170000
DTEND;TZID=America/New_York:20230419T190000
DTSTAMP:20260420T195623
CREATED:20230314T191431Z
LAST-MODIFIED:20230314T191431Z
UID:10000548-1681923600-1681930800@midtownatlanta.org
SUMMARY:Acoustic Wednesdays
DESCRIPTION:Each Wednesday from 5-7 PM\, Midtown Alliance will host a local musician to play an acoustic set in Commercial Row Commons\, located at Peachtree St and Peachtree Pl (outside Savi Market). \nFor more information on the upcoming performer\, check out the event page.
URL:https://midtownatlanta.org/events/acoustic-wednesdays/2023-04-19/
END:VEVENT
BEGIN:VEVENT
DTSTART;TZID=America/New_York:20230418T183000
DTEND;TZID=America/New_York:20230418T203000
DTSTAMP:20260420T195623
CREATED:20230108T202209Z
LAST-MODIFIED:20230227T164551Z
UID:10000420-1681842600-1681849800@midtownatlanta.org
SUMMARY:Land Use Committee Meeting
DESCRIPTION:Please visit the Land Use Committee to learn more about what we do and to register to attend this virtual committee meeting!
URL:https://midtownatlanta.org/events/land-use-committee-meeting-copy/2023-04-18/
LOCATION:Zoom Virtual Webinar
END:VEVENT
BEGIN:VEVENT
DTSTART;TZID=America/New_York:20230413T183000
DTEND;TZID=America/New_York:20230413T193000
DTSTAMP:20260420T195623
CREATED:20230306T143158Z
LAST-MODIFIED:20231209T201453Z
UID:10000460-1681410600-1681414200@midtownatlanta.org
SUMMARY:Infrastructure Committee Meeting
DESCRIPTION:Please visit the Infrastructure Committee page to learn more about what we do and to register to attend this virtual committee meeting!
URL:https://midtownatlanta.org/events/infrastructure-committee-meeting-copy-2-3/2023-04-13/
LOCATION:Zoom Virtual Webinar
END:VEVENT
BEGIN:VEVENT
DTSTART;TZID=America/New_York:20230412T170000
DTEND;TZID=America/New_York:20230412T190000
DTSTAMP:20260420T195623
CREATED:20230314T191431Z
LAST-MODIFIED:20230314T191431Z
UID:10000547-1681318800-1681326000@midtownatlanta.org
SUMMARY:Acoustic Wednesdays
DESCRIPTION:Each Wednesday from 5-7 PM\, Midtown Alliance will host a local musician to play an acoustic set in Commercial Row Commons\, located at Peachtree St and Peachtree Pl (outside Savi Market). \nFor more information on the upcoming performer\, check out the event page.
URL:https://midtownatlanta.org/events/acoustic-wednesdays/2023-04-12/
END:VEVENT
BEGIN:VEVENT
DTSTART;TZID=America/New_York:20230411T173000
DTEND;TZID=America/New_York:20230411T190000
DTSTAMP:20260420T195623
CREATED:20230314T175637Z
LAST-MODIFIED:20230314T175754Z
UID:10000494-1681234200-1681239600@midtownatlanta.org
SUMMARY:Midtown Development Review Committee
DESCRIPTION:  \nEach month there is a public meeting of the Midtown Development Review Committee – comprised of 10 individuals representing residents\, property and business owners\, institutions\, neighborhood associations\, and MARTA.  The committee\, appointed by the City of Atlanta\, provides formal recommendations to the Office of Planning on all Special Administrative Permit (SAP) applications within the Midtown SPI-16 and SPI-17 zoning districts. \nThe Midtown residential community is represented by two members of the DRC.  Midtown Neighbors’ Association\, currently represented by Jenny Williams\, and NPU-E\, currently represented by Coleman Morris\, advocate for the interests of the community in the review of both large scale major developments and smaller renovations within the Midtown Improvement District (a part of the Midtown Neighborhood.) \nMidtown DRC meetings are managed by the Midtown Alliance and are scheduled on the second Tuesday of each month.  The meetings are held in person on the 5th Floor of 999 Peachtree at 5:30 PM.  Applicants must submit project information (project narrative\, site plan\, elevations\, renderings) one week in advance in order to be placed on the agenda. \nYou can find the archive and current agendas here: \nhttps://www.midtownatl.com/about/programs-and-projects/planning-and-urban-design/midtown-development-review-committee
URL:https://midtownatlanta.org/events/midtown-development-review-committee/2023-04-11/
END:VEVENT
BEGIN:VEVENT
DTSTART;TZID=America/New_York:20230408T100000
DTEND;TZID=America/New_York:20230408T120000
DTSTAMP:20260420T195623
CREATED:20230302T005624Z
LAST-MODIFIED:20230302T005624Z
UID:10000448-1680948000-1680955200@midtownatlanta.org
SUMMARY:Community Egg Hunt Eggstravaganza
DESCRIPTION:
URL:https://midtownatlanta.org/events/community-egg-hunt-eggstravaganza/
LOCATION:Saint Mark United Methodist Church\, 781 Peachtree Street NE\, Atlanta\, GA\, 30308\, United States
END:VEVENT
BEGIN:VEVENT
DTSTART;TZID=America/New_York:20230405T170000
DTEND;TZID=America/New_York:20230405T190000
DTSTAMP:20260420T195623
CREATED:20230314T191431Z
LAST-MODIFIED:20230314T191431Z
UID:10000546-1680714000-1680721200@midtownatlanta.org
SUMMARY:Acoustic Wednesdays
DESCRIPTION:Each Wednesday from 5-7 PM\, Midtown Alliance will host a local musician to play an acoustic set in Commercial Row Commons\, located at Peachtree St and Peachtree Pl (outside Savi Market). \nFor more information on the upcoming performer\, check out the event page.
URL:https://midtownatlanta.org/events/acoustic-wednesdays/2023-04-05/
END:VEVENT
BEGIN:VEVENT
DTSTART;TZID=America/New_York:20230404T183000
DTEND;TZID=America/New_York:20230404T203000
DTSTAMP:20260420T195623
CREATED:20230314T182036Z
LAST-MODIFIED:20241015T165715Z
UID:10000519-1680633000-1680640200@midtownatlanta.org
SUMMARY:NPU-E Meeting
DESCRIPTION:  \nThe City of Atlanta is divided into twenty-five (25) Neighborhood Planning Units (NPUs)\, which are citizen advisory councils that make recommendations to the Mayor and City Council on zoning\, land use\, and other planning-related matters. The NPU system was established in 1974 by the late Mayor Maynard Jackson to provide an opportunity for all citizens to actively participate in the Comprehensive Development Plan\, which is the City’s vision for the next five\, ten\, and fifteen years. Since then the NPU system has evolved into what it is today – the official avenue for residents to receive updates concerning all functions of City government. Enabling residents to express concerns and provide input helps the City in developing plans that best meet the needs of each neighborhood. \n​Midtown resides in NPU-E which meets on the first Tuesday of every month. \nYou can find the current agenda and link to join the virtual meeting on the City of Atlanta NPU directory one week before the meeting.   \nMidtown is represented on the NPU-E Board by Midtown Neighbors’ Association.  The Board of Directors appoints a representative from MNA to serve on the NPU- E Board. \nYou can learn more about the NPU system here: \nwww.npuatlanta.org \nYou can learn more about NPU-E here: \nwww.npueatlanta.org \nYou can reach your Midtown NPU-E representative here: \npresident@midtownatlanta.org
URL:https://midtownatlanta.org/events/npu-e-meeting-2/2023-04-04/
END:VEVENT
BEGIN:VEVENT
DTSTART;TZID=America/New_York:20230401T183000
DTEND;TZID=America/New_York:20230401T193000
DTSTAMP:20260420T195623
CREATED:20230108T203807Z
LAST-MODIFIED:20230227T172559Z
UID:10000429-1680373800-1680377400@midtownatlanta.org
SUMMARY:Social Committee Meeting
DESCRIPTION:Please visit the Social Committee page to learn more about what we do and to register to attend this virtual committee meeting!
URL:https://midtownatlanta.org/events/social-committee-meeting-copy-2/2023-04-01/
LOCATION:Zoom Virtual Webinar
END:VEVENT
BEGIN:VEVENT
DTSTART;TZID=America/New_York:20230401T083000
DTEND;TZID=America/New_York:20230401T110000
DTSTAMP:20260420T195623
CREATED:20230122T214335Z
LAST-MODIFIED:20230314T180014Z
UID:10000411-1680337800-1680346800@midtownatlanta.org
SUMMARY:Miles for Migrane 5K Run/2 Mile Walk Fundraiser
DESCRIPTION:Miles for Migraine is a registered 501(c)(3) nonprofit organization with the mission of improving the lives of people with migraine and other headache disorders\, and their families\, by raising public awareness about this disease\, and helping to find a cure. Miles for Migraine produces fun walk/run events\, typically a 2-mile walk and a 5K race to raise money for fellowship programs to help alleviate the headache specialist shortage. They also host adult and family education and social programs\, and support groups.
URL:https://midtownatlanta.org/events/miles-for-migrane-5k-run-2-mile-walk-fundraiser/
LOCATION:Piedmont Park- OakHill\, 10th Street and Charles Allen Drive\, Atlanta\, GA\, 30309\, United States
END:VEVENT
BEGIN:VEVENT
DTSTART;TZID=America/New_York:20230330T183000
DTEND;TZID=America/New_York:20230330T203000
DTSTAMP:20260420T195623
CREATED:20230108T203634Z
LAST-MODIFIED:20230425T221045Z
UID:10000381-1680201000-1680208200@midtownatlanta.org
SUMMARY:Midtown Community Meeting
DESCRIPTION:Please visit the Board of Directors page to learn more about what we do and to register to attend this monthly overview of our progress on Midtown topics that are important to our community.
URL:https://midtownatlanta.org/events/board-meeting-2022-02-24-copy/2023-03-30/
LOCATION:Zoom Virtual Webinar
END:VEVENT
BEGIN:VEVENT
DTSTART;TZID=America/New_York:20230329T170000
DTEND;TZID=America/New_York:20230329T190000
DTSTAMP:20260420T195623
CREATED:20230314T191431Z
LAST-MODIFIED:20230314T191431Z
UID:10000545-1680109200-1680116400@midtownatlanta.org
SUMMARY:Acoustic Wednesdays
DESCRIPTION:Each Wednesday from 5-7 PM\, Midtown Alliance will host a local musician to play an acoustic set in Commercial Row Commons\, located at Peachtree St and Peachtree Pl (outside Savi Market). \nFor more information on the upcoming performer\, check out the event page.
URL:https://midtownatlanta.org/events/acoustic-wednesdays/2023-03-29/
END:VEVENT
BEGIN:VEVENT
DTSTART;TZID=America/New_York:20230328T183000
DTEND;TZID=America/New_York:20230328T203000
DTSTAMP:20260420T195623
CREATED:20230108T202523Z
LAST-MODIFIED:20231212T010345Z
UID:10000356-1680028200-1680035400@midtownatlanta.org
SUMMARY:License and Permits Committee Meeting
DESCRIPTION:Please visit the License and Permits Committee page to learn more about what we do and to register to attend this virtual committee meeting!
URL:https://midtownatlanta.org/events/license-and-permits-committee-meeting-copy/2023-03-28/
LOCATION:Zoom Virtual Webinar
END:VEVENT
BEGIN:VEVENT
DTSTART;VALUE=DATE:20230325
DTEND;VALUE=DATE:20230326
DTSTAMP:20260420T195623
CREATED:20230213T180414Z
LAST-MODIFIED:20230213T180621Z
UID:10000416-1679702400-1679788799@midtownatlanta.org
SUMMARY:Midtown Spring Tree Planting Day
DESCRIPTION:Our canopy is a major reason that Midtown is so beautiful.  It also contributes to important sustainability needs like shade\, water runoff management\, and oxygen cycling. \nMNA’s Gardens Committee wants to ensure we are always replenishing our canopy. Neighbors Jeff Burns and Stormie Israel are coordinating a spring planting day on March 25\, 2023 with Trees Atlanta.  They will be planting 30 trees! \nDo you know a good spot for a new tree?  Email Jeff and Stormie with the following information: \n– right-of-way locations:  closest address \n– is the location under power lines? \n– how many trees could be installed (best estimate\, the team will confirm) \n– indication of a special tree request (Trees Atlanta will suggest otherwise) \nThe planting day is a great opportunity for you to volunteer. Roll up your sleeves and help get these beauties in the ground!  Read about the work scope and liability waiver here and then email Jeff & Stormie so they can expect you.  
URL:https://midtownatlanta.org/events/treeplanting_2023/
END:VEVENT
BEGIN:VEVENT
DTSTART;TZID=America/New_York:20230323T123000
DTEND;TZID=America/New_York:20230325T170000
DTSTAMP:20260420T195623
CREATED:20230122T215254Z
LAST-MODIFIED:20230314T175935Z
UID:10000412-1679574600-1679763600@midtownatlanta.org
SUMMARY:High Museum Atlanta Wine Auction
DESCRIPTION:For more than 30 years\, the High Museum Atlanta Wine Auction has been the ultimate party with a purpose in Atlanta! Raising more than $37 million over the years\, the Auction will once again raise in the tents at Atlantic Station in March. \nThis party will bring winemakers and vintners pouring their stellar wines\, outstanding chefs cooking their tastiest treats\, and enough event for everyone to satiate their desires. Proceeds from the Auction are a vital part of the Museum’s exhibition and education plan\, helping to make special exhibitions possible. The funds raised also provide dynamic youth educational programs which draw more than 60\,000 schoolchildren to the High each year.
URL:https://midtownatlanta.org/events/high-museum-atlanta-wine-auction/
LOCATION:Atlantic Station
END:VEVENT
BEGIN:VEVENT
DTSTART;TZID=America/New_York:20230322T170000
DTEND;TZID=America/New_York:20230322T190000
DTSTAMP:20260420T195623
CREATED:20230314T191431Z
LAST-MODIFIED:20230314T191431Z
UID:10000544-1679504400-1679511600@midtownatlanta.org
SUMMARY:Acoustic Wednesdays
DESCRIPTION:Each Wednesday from 5-7 PM\, Midtown Alliance will host a local musician to play an acoustic set in Commercial Row Commons\, located at Peachtree St and Peachtree Pl (outside Savi Market). \nFor more information on the upcoming performer\, check out the event page.
URL:https://midtownatlanta.org/events/acoustic-wednesdays/2023-03-22/
END:VEVENT
BEGIN:VEVENT
DTSTART;TZID=America/New_York:20230321T183000
DTEND;TZID=America/New_York:20230321T203000
DTSTAMP:20260420T195623
CREATED:20230108T202209Z
LAST-MODIFIED:20230227T164551Z
UID:10000419-1679423400-1679430600@midtownatlanta.org
SUMMARY:Land Use Committee Meeting
DESCRIPTION:Please visit the Land Use Committee to learn more about what we do and to register to attend this virtual committee meeting!
URL:https://midtownatlanta.org/events/land-use-committee-meeting-copy/2023-03-21/
LOCATION:Zoom Virtual Webinar
END:VEVENT
BEGIN:VEVENT
DTSTART;TZID=America/New_York:20230319T080000
DTEND;TZID=America/New_York:20230319T120000
DTSTAMP:20260420T195623
CREATED:20230120T153927Z
LAST-MODIFIED:20230120T153927Z
UID:10000163-1679212800-1679227200@midtownatlanta.org
SUMMARY:Jeff Galloway's Half Marathon
DESCRIPTION:Atlanta’s best\, fastest\, and most convenient race course!  This Half Marathon winds you through Midtown and takes you to some of Atlanta’s most famous landmarks. An enjoyable course that finishes in historic Piedmont Park.
URL:https://midtownatlanta.org/events/jeff-galloways-half-marathon/
LOCATION:Piedmont Park- see route map\, 1320 Monroe Drive\, Atlanta\, GA\, 30306\, United States
END:VEVENT
BEGIN:VEVENT
DTSTART;TZID=America/New_York:20230315T183000
DTEND;TZID=America/New_York:20230315T203000
DTSTAMP:20260420T195623
CREATED:20230108T202402Z
LAST-MODIFIED:20231209T201523Z
UID:10000345-1678905000-1678912200@midtownatlanta.org
SUMMARY:Safety Committee Meeting
DESCRIPTION:Please visit the Safety Committee page to learn more about what we do and to register to attend this virtual committee meeting!
URL:https://midtownatlanta.org/events/safety-committee-meeting-copy/2023-03-15/
LOCATION:Zoom Virtual Webinar
END:VEVENT
BEGIN:VEVENT
DTSTART;TZID=America/New_York:20230315T170000
DTEND;TZID=America/New_York:20230315T190000
DTSTAMP:20260420T195623
CREATED:20230314T191431Z
LAST-MODIFIED:20230314T191431Z
UID:10000543-1678899600-1678906800@midtownatlanta.org
SUMMARY:Acoustic Wednesdays
DESCRIPTION:Each Wednesday from 5-7 PM\, Midtown Alliance will host a local musician to play an acoustic set in Commercial Row Commons\, located at Peachtree St and Peachtree Pl (outside Savi Market). \nFor more information on the upcoming performer\, check out the event page.
URL:https://midtownatlanta.org/events/acoustic-wednesdays/2023-03-15/
END:VEVENT
BEGIN:VEVENT
DTSTART;TZID=America/New_York:20230315T170000
DTEND;TZID=America/New_York:20230315T190000
DTSTAMP:20260420T195623
CREATED:20230122T213425Z
LAST-MODIFIED:20230314T180007Z
UID:10000410-1678899600-1678906800@midtownatlanta.org
SUMMARY:Midweek Mile & Dash
DESCRIPTION:The Midweek Mile & Dash is a FREE youth event designed for kids ages 14 and under. This event will take place in Piedmont Park’s iconic Meadow. Milers (ages 6-14) will start and finish in the Meadow\, and run the beloved paths around the area. Dashers will run their 50 meters in the grassy Meadow. \nAll participants can have fun in the Track & Field Zone with Atlanta Track Club’s elite athletes while parents learn more about youth events and youth programming in the information tent. This is the first of three spring midweek mile & dash events (March 15\, April 12\, May 10). Challenge yourself throughout the spring to improve your performances with each event!
URL:https://midtownatlanta.org/events/midweek-mile-dash/
LOCATION:Piedmont Park\, 400 Park Dr NE\, Atlanta\, GA\, 30309\, United States
END:VEVENT
BEGIN:VEVENT
DTSTART;TZID=America/New_York:20230314T183000
DTEND;TZID=America/New_York:20230314T193000
DTSTAMP:20260420T195623
CREATED:20230306T143431Z
LAST-MODIFIED:20230306T143456Z
UID:10000459-1678818600-1678822200@midtownatlanta.org
SUMMARY:Infrastructure Committee Meeting
DESCRIPTION:Please visit the Infrastructure Committee page to learn more about what we do and to register to attend this virtual committee meeting!
URL:https://midtownatlanta.org/events/infrastructure-committee-meeting-copy-2-3-2/
LOCATION:Zoom Virtual Webinar
END:VEVENT
BEGIN:VEVENT
DTSTART;TZID=America/New_York:20230314T173000
DTEND;TZID=America/New_York:20230314T190000
DTSTAMP:20260420T195623
CREATED:20230314T175637Z
LAST-MODIFIED:20230314T175754Z
UID:10000493-1678815000-1678820400@midtownatlanta.org
SUMMARY:Midtown Development Review Committee
DESCRIPTION:  \nEach month there is a public meeting of the Midtown Development Review Committee – comprised of 10 individuals representing residents\, property and business owners\, institutions\, neighborhood associations\, and MARTA.  The committee\, appointed by the City of Atlanta\, provides formal recommendations to the Office of Planning on all Special Administrative Permit (SAP) applications within the Midtown SPI-16 and SPI-17 zoning districts. \nThe Midtown residential community is represented by two members of the DRC.  Midtown Neighbors’ Association\, currently represented by Jenny Williams\, and NPU-E\, currently represented by Coleman Morris\, advocate for the interests of the community in the review of both large scale major developments and smaller renovations within the Midtown Improvement District (a part of the Midtown Neighborhood.) \nMidtown DRC meetings are managed by the Midtown Alliance and are scheduled on the second Tuesday of each month.  The meetings are held in person on the 5th Floor of 999 Peachtree at 5:30 PM.  Applicants must submit project information (project narrative\, site plan\, elevations\, renderings) one week in advance in order to be placed on the agenda. \nYou can find the archive and current agendas here: \nhttps://www.midtownatl.com/about/programs-and-projects/planning-and-urban-design/midtown-development-review-committee
URL:https://midtownatlanta.org/events/midtown-development-review-committee/2023-03-14/
END:VEVENT
BEGIN:VEVENT
DTSTART;TZID=America/New_York:20230311T120000
DTEND;TZID=America/New_York:20230311T150000
DTSTAMP:20260420T195624
CREATED:20230120T152359Z
LAST-MODIFIED:20230120T152456Z
UID:10000172-1678536000-1678546800@midtownatlanta.org
SUMMARY:Atlanta's St. Patrick's Parade
DESCRIPTION:The parade is under the auspices of the Irish Network Atlanta and is following in the footsteps of the Irish Networks that have been established in 20+ cities across the US\, and was proud to officially launch the 20th chapter in March 2016. It’s aim is to connect Irish-born and Irish American professionals and those who have an interest in Ireland within the Atlanta metro and surrounding areas; to promote other Irish organizations\, especially those organizations with charitable status. IN-Atlanta aims to harness the energy and talents of the Irish Diaspora in the US\, and provide a forum where individuals can network\, connect\, foster relationships and contribute to the Irish community in areas such as Irish heritage\, culture\, economics\, sport and charitable organizations. \nParticipation in the parade is not just an “Irish thing”. The parade attracts individuals and groups from around the city and the South including clowns\, floats\, bands\, Bagpipe & Drum Corps\, children\, dancers\, drill teams\, and more. All groups are encouraged to participate as long as their unit is appropriate for a family event. The emphasis is on children and families in celebration of all of Atlanta’s diverse backgrounds on a day when “everybody is Irish.”
URL:https://midtownatlanta.org/events/atlantas-st-patricks-parade/
LOCATION:Peachtree Street between 17th and 5th streets\, 1280 Peachtree Street
END:VEVENT
BEGIN:VEVENT
DTSTART;TZID=America/New_York:20230311T100000
DTEND;TZID=America/New_York:20230311T140000
DTSTAMP:20260420T195624
CREATED:20230217T172630Z
LAST-MODIFIED:20230217T172630Z
UID:10000417-1678528800-1678543200@midtownatlanta.org
SUMMARY:Ponce Library Book Sale
DESCRIPTION:
URL:https://midtownatlanta.org/events/ponce-library-book-sale/
LOCATION:Ponce Library\, 980 Ponce de Leon Avenue\, Atlanta\, 30306\, United States
END:VEVENT
BEGIN:VEVENT
DTSTART;TZID=America/New_York:20230311T093000
DTEND;TZID=America/New_York:20230311T110000
DTSTAMP:20260420T195624
CREATED:20230120T153559Z
LAST-MODIFIED:20230120T153559Z
UID:10000168-1678527000-1678532400@midtownatlanta.org
SUMMARY:New Realm Brewing St. Paddy's Day 5k
DESCRIPTION:Starting and finishing at New Realm Brewing\, this point to point course is chip timed\, and less hilly than the original course. Delicious beer\, music\, and awards await at the finish line! Make sure to stick around after the race to celebrate!
URL:https://midtownatlanta.org/events/new-realm-brewing-st-paddys-day-5k/
LOCATION:New Realm Brewing Company\, 550 Somerset Terrace NE Unit 101\, Atlanta\, GA\, 30306\, United States
END:VEVENT
BEGIN:VEVENT
DTSTART;TZID=America/New_York:20230309T180000
DTEND;TZID=America/New_York:20230309T190000
DTSTAMP:20260420T195624
CREATED:20230302T035221Z
LAST-MODIFIED:20230302T035555Z
UID:10000449-1678384800-1678388400@midtownatlanta.org
SUMMARY:In Person APS Discussion: Rezoning Midtown High School
DESCRIPTION:As part of APS Annual Facilities Review Process\, they have identified Midtown High School as overcrowded. APS has created two scenarios to address this overcrowding; one includes rezoning. These scenarios may impact Midtown High School\, Washington High School\, and Centennial Academy. Please go to APS Annual Reviewwebsite to watch videos and review one-pagers for an overview of the scenarios and their impact.  \n\nJoin APS on March 9th at noon virtually and 6pm in person at the former Inman Middle School at 774 Virginia Ave NE. \nRegister here for the virtual option: http://tinyAPS.com/?MidtownClusterFacilities\n\n\n\nClick to download the summary flyer that includes instructions on ways to submit feedback (in addition to the meetings above.)
URL:https://midtownatlanta.org/events/aps-rezoning-discussion-midtown-high-school/
LOCATION:774 Virginia Avenue NE\, 774 Virginia Ave NE\, Atlanta\, GA\, 30306\, United States
END:VEVENT
BEGIN:VEVENT
DTSTART;TZID=America/New_York:20230309T120000
DTEND;TZID=America/New_York:20230309T130000
DTSTAMP:20260420T195624
CREATED:20230302T035622Z
LAST-MODIFIED:20230302T035726Z
UID:10000450-1678363200-1678366800@midtownatlanta.org
SUMMARY:Virtual APS Discussion: Rezoning Midtown High School Copy
DESCRIPTION:As part of APS Annual Facilities Review Process\, they have identified Midtown High School as overcrowded. APS has created two scenarios to address this overcrowding; one includes rezoning. These scenarios may impact Midtown High School\, Washington High School\, and Centennial Academy. Please go to APS Annual Reviewwebsite to watch videos and review one-pagers for an overview of the scenarios and their impact.  \n\nJoin APS on March 9th at noon virtually and 6pm in person at the former Inman Middle School at 774 Virginia Ave NE. \nRegister here for the virtual option: http://tinyAPS.com/?MidtownClusterFacilities\n\n\n\nClick to download the summary flyer that includes instructions on ways to submit feedback (in addition to the meetings above.)
URL:https://midtownatlanta.org/events/aps-rezoning-discussion-midtown-high-school-copy/
END:VEVENT
BEGIN:VEVENT
DTSTART;TZID=America/New_York:20230307T183000
DTEND;TZID=America/New_York:20230307T203000
DTSTAMP:20260420T195624
CREATED:20230314T182036Z
LAST-MODIFIED:20241015T165715Z
UID:10000518-1678213800-1678221000@midtownatlanta.org
SUMMARY:NPU-E Meeting
DESCRIPTION:  \nThe City of Atlanta is divided into twenty-five (25) Neighborhood Planning Units (NPUs)\, which are citizen advisory councils that make recommendations to the Mayor and City Council on zoning\, land use\, and other planning-related matters. The NPU system was established in 1974 by the late Mayor Maynard Jackson to provide an opportunity for all citizens to actively participate in the Comprehensive Development Plan\, which is the City’s vision for the next five\, ten\, and fifteen years. Since then the NPU system has evolved into what it is today – the official avenue for residents to receive updates concerning all functions of City government. Enabling residents to express concerns and provide input helps the City in developing plans that best meet the needs of each neighborhood. \n​Midtown resides in NPU-E which meets on the first Tuesday of every month. \nYou can find the current agenda and link to join the virtual meeting on the City of Atlanta NPU directory one week before the meeting.   \nMidtown is represented on the NPU-E Board by Midtown Neighbors’ Association.  The Board of Directors appoints a representative from MNA to serve on the NPU- E Board. \nYou can learn more about the NPU system here: \nwww.npuatlanta.org \nYou can learn more about NPU-E here: \nwww.npueatlanta.org \nYou can reach your Midtown NPU-E representative here: \npresident@midtownatlanta.org
URL:https://midtownatlanta.org/events/npu-e-meeting-2/2023-03-07/
END:VEVENT
END:VCALENDAR