BEGIN:VCALENDAR
VERSION:2.0
PRODID:-//Midtownatlanta.org - ECPv6.7.0//NONSGML v1.0//EN
CALSCALE:GREGORIAN
METHOD:PUBLISH
X-WR-CALNAME:Midtownatlanta.org
X-ORIGINAL-URL:https://midtownatlanta.org
X-WR-CALDESC:Events for Midtownatlanta.org
REFRESH-INTERVAL;VALUE=DURATION:PT1H
X-Robots-Tag:noindex
X-PUBLISHED-TTL:PT1H
BEGIN:VTIMEZONE
TZID:America/New_York
BEGIN:DAYLIGHT
TZOFFSETFROM:-0500
TZOFFSETTO:-0400
TZNAME:EDT
DTSTART:20220313T070000
END:DAYLIGHT
BEGIN:STANDARD
TZOFFSETFROM:-0400
TZOFFSETTO:-0500
TZNAME:EST
DTSTART:20221106T060000
END:STANDARD
END:VTIMEZONE
BEGIN:VEVENT
DTSTART;TZID=America/New_York:20221116T163000
DTEND;TZID=America/New_York:20221116T183000
DTSTAMP:20260423T231450
CREATED:20221116T141630Z
LAST-MODIFIED:20221116T141630Z
UID:10000165-1668616200-1668623400@midtownatlanta.org
SUMMARY:17th Street Corridor Enhancement - Community Visioning Session
DESCRIPTION:Please join the Midtown Alliance for a public visioning session to re-imagine the future of 17th Street! Your input and participation will be used by Midtown Alliance as the foundation to develop future designs. \nDuring this meeting\, you can discuss the challenges and opportunities along 17th Street and share what is wanted and needed along this corridor. \nTHIS IS AN OPEN HOUSE FORMAT.  POP IN ANYTIME.
URL:https://midtownatlanta.org/events/17th-street-corridor-enhancement-community-visioning-session/
LOCATION:Center Stage Theatre\, 1374 West Peachtreet St\, Atlanta\, GA\, 30309\, United States
END:VEVENT
BEGIN:VEVENT
DTSTART;TZID=America/New_York:20221115T190000
DTEND;TZID=America/New_York:20221115T203000
DTSTAMP:20260423T231450
CREATED:20220629T202105Z
LAST-MODIFIED:20220629T203004Z
UID:10000308-1668538800-1668544200@midtownatlanta.org
SUMMARY:Land Use Committee Meeting
DESCRIPTION:Please visit the Land Use Committee to learn more about what we do and to register to attend this virtual committee meeting!
URL:https://midtownatlanta.org/events/land-use-committee-meeting/2022-11-15/
LOCATION:Zoom Virtual Webinar
END:VEVENT
BEGIN:VEVENT
DTSTART;TZID=America/New_York:20221110T183000
DTEND;TZID=America/New_York:20221110T203000
DTSTAMP:20260423T231450
CREATED:20221005T210602Z
LAST-MODIFIED:20221005T210735Z
UID:10000162-1668105000-1668112200@midtownatlanta.org
SUMMARY:Cocktails in the Courtyard
DESCRIPTION:  \n  \n  \n  \n  \n  \n  \n  \nJoin your neighbors for a crisp fall evening in the private garden of a Midtown Garden District home.  Enjoy cocktails\, music\, hors d’oeuvres and meeting neighbors while we raise funds to support Midtown green space projects. \nLast year\, during our first ever Cocktails in the Courtyard\, we raised 50% of our annual maintenance budget for all adopted Garden District medians.  As funding for our green spaces grows\, so can the creative potential of future projects.  Help us create vibrant community spaces and surpass the success of last year! \nHead to our Gardens Committee page for more information on the event and how to secure your tickets to this amazing evening in Midtown.
URL:https://midtownatlanta.org/events/cocktails-in-the-courtyard/
ORGANIZER;CN="Midtown Gardens Committee":MAILTO:gardens@midtownatlanta.org
END:VEVENT
BEGIN:VEVENT
DTSTART;TZID=America/New_York:20221110T183000
DTEND;TZID=America/New_York:20221110T193000
DTSTAMP:20260423T231450
CREATED:20220117T201446Z
LAST-MODIFIED:20220907T234103Z
UID:10000273-1668105000-1668108600@midtownatlanta.org
SUMMARY:Infrastructure Committee Meeting
DESCRIPTION:Please visit the Infrastructure Committee page to learn more about what we do and to register to attend this virtual committee meeting!
URL:https://midtownatlanta.org/events/infrastructure-committee-meeting/2022-11-10/
LOCATION:Zoom Virtual Webinar
END:VEVENT
BEGIN:VEVENT
DTSTART;TZID=America/New_York:20221108T173000
DTEND;TZID=America/New_York:20221108T193000
DTSTAMP:20260423T231450
CREATED:20220117T193625Z
LAST-MODIFIED:20220117T195002Z
UID:10000202-1667928600-1667935800@midtownatlanta.org
SUMMARY:Development Review Committee Meeting
DESCRIPTION:The City of Atlanta’s Development Review Committee (DRC) for Special Public Interest (SPI) Zones 16 & 17 meets monthly to review building proposals in the Midtown Improvement District (“the high-rise section”). The DRC is composed of shareholders of the Midtown Neighborhood including the Midtown Neighbors’ Association\, residents\, business owners and institutions. The Midtown Alliance serves as the administrator of the DRC. \nIf you are interested in big projects happening in the MID\, you are invited to listen to these monthly meetings. \nPlease visit the DRC’s page for sign up information\, dates\, project recaps and more.
URL:https://midtownatlanta.org/events/development-review-committee-meeting/2022-11-08/
LOCATION:Midtown Alliance – Virtual
END:VEVENT
BEGIN:VEVENT
DTSTART;TZID=America/New_York:20221102T183000
DTEND;TZID=America/New_York:20221102T193000
DTSTAMP:20260423T231450
CREATED:20220117T201608Z
LAST-MODIFIED:20220810T192540Z
UID:10000284-1667413800-1667417400@midtownatlanta.org
SUMMARY:Social Committee Meeting
DESCRIPTION:Please visit the Social Committee page to learn more about what we do and to register to attend this virtual committee meeting!
URL:https://midtownatlanta.org/events/social-committee-meeting/2022-11-02/
LOCATION:Zoom Virtual Webinar
END:VEVENT
BEGIN:VEVENT
DTSTART;TZID=America/New_York:20221101T183000
DTEND;TZID=America/New_York:20221101T203000
DTSTAMP:20260423T231450
CREATED:20220117T193022Z
LAST-MODIFIED:20220117T195356Z
UID:10000191-1667327400-1667334600@midtownatlanta.org
SUMMARY:NPU-E Meeting
DESCRIPTION:Neighborhood Planning Units (NPUs) are citizen advisory councils that make recommendations to the Mayor and City Council on zoning\, land-use\, special exception permits\, special event permits\, and liquor licensing.  The NPU system was established in 1974 to provide an opportunity for citizens to participate actively in the Comprehensive Development Plan\, which is the City’s vision for the next 5\, 10\, and 15 years.  It is also used as a way for the citizens to receive information concerning all functions of City government.  The system enables the citizens to express ideas and comment on City plans and proposals while assisting the City in developing plans which best meet the needs of residents. \nThe Midtown Neighbors’ Association is a member of NPU-E and the MNA President sits on the NPU-E Board representing Midtown residents.  MNA meets with all Midtown Land Use and License and Permit applicants prior to NPU-E meetings and makes a vote to oppose or not oppose an application.  Visit our MNA site pages for more information on our LUC and LPC process. \nFor the latest schedule\, information\, and meeting registration\, please visit the NPU-E website.
URL:https://midtownatlanta.org/events/npu-e-meeting/2022-11-01/
LOCATION:Zoom Virtual Webinar
END:VEVENT
BEGIN:VEVENT
DTSTART;TZID=America/New_York:20221031T170000
DTEND;TZID=America/New_York:20221031T190000
DTSTAMP:20260423T231450
CREATED:20221004T200856Z
LAST-MODIFIED:20221014T005558Z
UID:10000318-1667235600-1667242800@midtownatlanta.org
SUMMARY:Midtown Halloween Bash and Trick or Treat
DESCRIPTION:Our Halloween Bash is on Halloween because we are traditionalists.\nOur Bash is a beloved and growing annual tradition in Midtown where neighbors chat\, food is served\, drinks are enjoyed\, candy is collected and neighborhood creativity is at its peak.  We are impressed every year with how Midtown channels all of our goblin energy and shows up in costume (or not) for mysterious fun. \nGet more details on the community event here.   \nRegistration is open to all Midtown residents and their friends.  A donation is requested but not required.
URL:https://midtownatlanta.org/events/midtown-halloween-bash-and-trick-or-treat/
END:VEVENT
BEGIN:VEVENT
DTSTART;TZID=America/New_York:20221027T183000
DTEND;TZID=America/New_York:20221027T203000
DTSTAMP:20260423T231450
CREATED:20220117T200506Z
LAST-MODIFIED:20220629T202817Z
UID:10000234-1666895400-1666902600@midtownatlanta.org
SUMMARY:Board Meeting
DESCRIPTION:Please visit the Board Meeting page to learn more about what we do and to register to attend this virtual board meeting!
URL:https://midtownatlanta.org/events/board-meeting-2022-02-24/2022-10-27/
LOCATION:Zoom Virtual Webinar
END:VEVENT
BEGIN:VEVENT
DTSTART;TZID=America/New_York:20221027T173000
DTEND;TZID=America/New_York:20221027T183000
DTSTAMP:20260423T231450
CREATED:20221025T113124Z
LAST-MODIFIED:20221025T113124Z
UID:10000164-1666891800-1666895400@midtownatlanta.org
SUMMARY:Midtown Chorus Presents:  Stage Fright!
DESCRIPTION:
URL:https://midtownatlanta.org/events/midtown-chorus-presents-stage-fright/
LOCATION:Midtown High School (lawn on Charles Allen Drive)\, 929 Charles Allen Drive\, Atlanta\, GA\, 30308\, United States
END:VEVENT
BEGIN:VEVENT
DTSTART;TZID=America/New_York:20221026T183000
DTEND;TZID=America/New_York:20221026T203000
DTSTAMP:20260423T231450
CREATED:20220117T195757Z
LAST-MODIFIED:20221022T114846Z
UID:10000213-1666809000-1666816200@midtownatlanta.org
SUMMARY:License and Permits Committee Meeting
DESCRIPTION:Please visit the License and Permits Committee page to learn more about what we do and to register to attend this virtual committee meeting!
URL:https://midtownatlanta.org/events/license-and-permits-committee-meeting/2022-10-26/
LOCATION:Zoom Virtual Webinar
END:VEVENT
BEGIN:VEVENT
DTSTART;TZID=America/New_York:20221026T183000
DTEND;TZID=America/New_York:20221026T193000
DTSTAMP:20260423T231450
CREATED:20220117T200845Z
LAST-MODIFIED:20220926T221853Z
UID:10000246-1666809000-1666812600@midtownatlanta.org
SUMMARY:Gardens Committee Meeting
DESCRIPTION:Please visit the Gardens Committee page to learn more about what we do and to register to attend this in-person committee meeting!
URL:https://midtownatlanta.org/events/gardens-committee-meeting/2022-10-26/
LOCATION:TBA – In-person
END:VEVENT
BEGIN:VEVENT
DTSTART;TZID=America/New_York:20221019T183000
DTEND;TZID=America/New_York:20221019T203000
DTSTAMP:20260423T231450
CREATED:20220117T201108Z
LAST-MODIFIED:20221220T205109Z
UID:10000259-1666204200-1666211400@midtownatlanta.org
SUMMARY:Safety Committee Meeting
DESCRIPTION:Please visit the Safety Committee page to learn more about what we do and to register to attend this virtual committee meeting!
URL:https://midtownatlanta.org/events/safety-committee-meeting/2022-10-19/
LOCATION:Zoom Virtual Webinar
END:VEVENT
BEGIN:VEVENT
DTSTART;TZID=America/New_York:20221018T190000
DTEND;TZID=America/New_York:20221018T203000
DTSTAMP:20260423T231450
CREATED:20220629T202105Z
LAST-MODIFIED:20220629T203004Z
UID:10000307-1666119600-1666125000@midtownatlanta.org
SUMMARY:Land Use Committee Meeting
DESCRIPTION:Please visit the Land Use Committee to learn more about what we do and to register to attend this virtual committee meeting!
URL:https://midtownatlanta.org/events/land-use-committee-meeting/2022-10-18/
LOCATION:Zoom Virtual Webinar
END:VEVENT
BEGIN:VEVENT
DTSTART;TZID=America/New_York:20221013T183000
DTEND;TZID=America/New_York:20221013T193000
DTSTAMP:20260423T231450
CREATED:20220117T201446Z
LAST-MODIFIED:20220907T234103Z
UID:10000272-1665685800-1665689400@midtownatlanta.org
SUMMARY:Infrastructure Committee Meeting
DESCRIPTION:Please visit the Infrastructure Committee page to learn more about what we do and to register to attend this virtual committee meeting!
URL:https://midtownatlanta.org/events/infrastructure-committee-meeting/2022-10-13/
LOCATION:Zoom Virtual Webinar
END:VEVENT
BEGIN:VEVENT
DTSTART;TZID=America/New_York:20221012T183000
DTEND;TZID=America/New_York:20221012T193000
DTSTAMP:20260423T231450
CREATED:20220117T200255Z
LAST-MODIFIED:20220209T162045Z
UID:10000222-1665599400-1665603000@midtownatlanta.org
SUMMARY:VIBE Committee Meeting
DESCRIPTION:Please visit the VIBE Committee page to learn more about what we do and to register to attend this in-person committee meeting!
URL:https://midtownatlanta.org/events/vibe-committee-meeting-2022-04-13/2022-10-12/
LOCATION:TBA – In-person
END:VEVENT
BEGIN:VEVENT
DTSTART;TZID=America/New_York:20221011T173000
DTEND;TZID=America/New_York:20221011T193000
DTSTAMP:20260423T231450
CREATED:20220117T193625Z
LAST-MODIFIED:20220117T195002Z
UID:10000201-1665509400-1665516600@midtownatlanta.org
SUMMARY:Development Review Committee Meeting
DESCRIPTION:The City of Atlanta’s Development Review Committee (DRC) for Special Public Interest (SPI) Zones 16 & 17 meets monthly to review building proposals in the Midtown Improvement District (“the high-rise section”). The DRC is composed of shareholders of the Midtown Neighborhood including the Midtown Neighbors’ Association\, residents\, business owners and institutions. The Midtown Alliance serves as the administrator of the DRC. \nIf you are interested in big projects happening in the MID\, you are invited to listen to these monthly meetings. \nPlease visit the DRC’s page for sign up information\, dates\, project recaps and more.
URL:https://midtownatlanta.org/events/development-review-committee-meeting/2022-10-11/
LOCATION:Midtown Alliance – Virtual
END:VEVENT
BEGIN:VEVENT
DTSTART;TZID=America/New_York:20221005T183000
DTEND;TZID=America/New_York:20221005T203000
DTSTAMP:20260423T231450
CREATED:20221004T202434Z
LAST-MODIFIED:20221004T202434Z
UID:10000160-1664994600-1665001800@midtownatlanta.org
SUMMARY:Midtown Pride Mingle
DESCRIPTION:Our fan favorite Pride Mingle is here!  Kick off the weekend festivities for Atlanta Pride on Wednesday evening with your neighbors.  We will be taking over the patio at Campagnolo starting at 6:30 PM.  Stop by for a small bite.  Toast Midtown’s long history of being open\, welcoming and accepting. \nGet all the details here and plan to join us on October 5th!
URL:https://midtownatlanta.org/events/midtown-pride-mingle/
LOCATION:Campagnolo\, 980 Piedmont Avenue\, Atlanta\, GA\, 30308\, United States
ORGANIZER;CN="MNA Social Committee":MAILTO:social@midtownatlanta.org
END:VEVENT
BEGIN:VEVENT
DTSTART;TZID=America/New_York:20221005T183000
DTEND;TZID=America/New_York:20221005T193000
DTSTAMP:20260423T231450
CREATED:20220117T201608Z
LAST-MODIFIED:20220810T192540Z
UID:10000283-1664994600-1664998200@midtownatlanta.org
SUMMARY:Social Committee Meeting
DESCRIPTION:Please visit the Social Committee page to learn more about what we do and to register to attend this virtual committee meeting!
URL:https://midtownatlanta.org/events/social-committee-meeting/2022-10-05/
LOCATION:Zoom Virtual Webinar
END:VEVENT
BEGIN:VEVENT
DTSTART;TZID=America/New_York:20221004T183000
DTEND;TZID=America/New_York:20221004T203000
DTSTAMP:20260423T231450
CREATED:20220117T193022Z
LAST-MODIFIED:20220117T195356Z
UID:10000190-1664908200-1664915400@midtownatlanta.org
SUMMARY:NPU-E Meeting
DESCRIPTION:Neighborhood Planning Units (NPUs) are citizen advisory councils that make recommendations to the Mayor and City Council on zoning\, land-use\, special exception permits\, special event permits\, and liquor licensing.  The NPU system was established in 1974 to provide an opportunity for citizens to participate actively in the Comprehensive Development Plan\, which is the City’s vision for the next 5\, 10\, and 15 years.  It is also used as a way for the citizens to receive information concerning all functions of City government.  The system enables the citizens to express ideas and comment on City plans and proposals while assisting the City in developing plans which best meet the needs of residents. \nThe Midtown Neighbors’ Association is a member of NPU-E and the MNA President sits on the NPU-E Board representing Midtown residents.  MNA meets with all Midtown Land Use and License and Permit applicants prior to NPU-E meetings and makes a vote to oppose or not oppose an application.  Visit our MNA site pages for more information on our LUC and LPC process. \nFor the latest schedule\, information\, and meeting registration\, please visit the NPU-E website.
URL:https://midtownatlanta.org/events/npu-e-meeting/2022-10-04/
LOCATION:Zoom Virtual Webinar
END:VEVENT
BEGIN:VEVENT
DTSTART;TZID=America/New_York:20220929T183000
DTEND;TZID=America/New_York:20220929T203000
DTSTAMP:20260423T231450
CREATED:20220117T200506Z
LAST-MODIFIED:20220629T202817Z
UID:10000233-1664476200-1664483400@midtownatlanta.org
SUMMARY:Board Meeting
DESCRIPTION:Please visit the Board Meeting page to learn more about what we do and to register to attend this virtual board meeting!
URL:https://midtownatlanta.org/events/board-meeting-2022-02-24/2022-09-29/
LOCATION:Zoom Virtual Webinar
END:VEVENT
BEGIN:VEVENT
DTSTART;TZID=America/New_York:20220928T183000
DTEND;TZID=America/New_York:20220928T203000
DTSTAMP:20260423T231450
CREATED:20220117T195757Z
LAST-MODIFIED:20221022T114846Z
UID:10000212-1664389800-1664397000@midtownatlanta.org
SUMMARY:License and Permits Committee Meeting
DESCRIPTION:Please visit the License and Permits Committee page to learn more about what we do and to register to attend this virtual committee meeting!
URL:https://midtownatlanta.org/events/license-and-permits-committee-meeting/2022-09-28/
LOCATION:Zoom Virtual Webinar
END:VEVENT
BEGIN:VEVENT
DTSTART;TZID=America/New_York:20220928T183000
DTEND;TZID=America/New_York:20220928T193000
DTSTAMP:20260423T231450
CREATED:20220117T200845Z
LAST-MODIFIED:20220926T221853Z
UID:10000245-1664389800-1664393400@midtownatlanta.org
SUMMARY:Gardens Committee Meeting
DESCRIPTION:Please visit the Gardens Committee page to learn more about what we do and to register to attend this in-person committee meeting!
URL:https://midtownatlanta.org/events/gardens-committee-meeting/2022-09-28/
LOCATION:TBA – In-person
END:VEVENT
BEGIN:VEVENT
DTSTART;TZID=America/New_York:20220921T183000
DTEND;TZID=America/New_York:20220921T203000
DTSTAMP:20260423T231450
CREATED:20220117T201108Z
LAST-MODIFIED:20221220T205109Z
UID:10000258-1663785000-1663792200@midtownatlanta.org
SUMMARY:Safety Committee Meeting
DESCRIPTION:Please visit the Safety Committee page to learn more about what we do and to register to attend this virtual committee meeting!
URL:https://midtownatlanta.org/events/safety-committee-meeting/2022-09-21/
LOCATION:Zoom Virtual Webinar
END:VEVENT
BEGIN:VEVENT
DTSTART;TZID=America/New_York:20220920T190000
DTEND;TZID=America/New_York:20220920T203000
DTSTAMP:20260423T231450
CREATED:20220629T202105Z
LAST-MODIFIED:20220629T203004Z
UID:10000306-1663700400-1663705800@midtownatlanta.org
SUMMARY:Land Use Committee Meeting
DESCRIPTION:Please visit the Land Use Committee to learn more about what we do and to register to attend this virtual committee meeting!
URL:https://midtownatlanta.org/events/land-use-committee-meeting/2022-09-20/
LOCATION:Zoom Virtual Webinar
END:VEVENT
BEGIN:VEVENT
DTSTART;TZID=America/New_York:20220915T183000
DTEND;TZID=America/New_York:20220915T193000
DTSTAMP:20260423T231450
CREATED:20220907T234150Z
LAST-MODIFIED:20220907T234254Z
UID:10000317-1663266600-1663270200@midtownatlanta.org
SUMMARY:Infrastructure Committee Meeting
DESCRIPTION:Please visit the Infrastructure Committee page to learn more about what we do and to register to attend this virtual committee meeting!
URL:https://midtownatlanta.org/events/infrastructure-committee-meeting-copy/
LOCATION:Zoom Virtual Webinar
END:VEVENT
BEGIN:VEVENT
DTSTART;TZID=America/New_York:20220913T173000
DTEND;TZID=America/New_York:20220913T193000
DTSTAMP:20260423T231450
CREATED:20220117T193625Z
LAST-MODIFIED:20220117T195002Z
UID:10000200-1663090200-1663097400@midtownatlanta.org
SUMMARY:Development Review Committee Meeting
DESCRIPTION:The City of Atlanta’s Development Review Committee (DRC) for Special Public Interest (SPI) Zones 16 & 17 meets monthly to review building proposals in the Midtown Improvement District (“the high-rise section”). The DRC is composed of shareholders of the Midtown Neighborhood including the Midtown Neighbors’ Association\, residents\, business owners and institutions. The Midtown Alliance serves as the administrator of the DRC. \nIf you are interested in big projects happening in the MID\, you are invited to listen to these monthly meetings. \nPlease visit the DRC’s page for sign up information\, dates\, project recaps and more.
URL:https://midtownatlanta.org/events/development-review-committee-meeting/2022-09-13/
LOCATION:Midtown Alliance – Virtual
END:VEVENT
BEGIN:VEVENT
DTSTART;TZID=America/New_York:20220908T183000
DTEND;TZID=America/New_York:20220908T223000
DTSTAMP:20260423T231450
CREATED:20220804T150211Z
LAST-MODIFIED:20220804T150407Z
UID:10000313-1662661800-1662676200@midtownatlanta.org
SUMMARY:Picnic for Piedmont Park
DESCRIPTION:Piedmont Park is a vital part of our Midtown community green space.  Please consider supporting this annual event which benefits the annual operating budget of our partners – Piedmont Park Conservancy.  They work year round to care for and program Piedmont Park for all of us to enjoy.  Grab a blanket\, neighbors\, friends\, and enjoy an evening in our favorite park. \nPICNIC FOR PIEDMONT PARK – details and registration
URL:https://midtownatlanta.org/events/picnic-for-piedmont-park/
LOCATION:Greystone at Piedmont Park
END:VEVENT
BEGIN:VEVENT
DTSTART;TZID=America/New_York:20220908T183000
DTEND;TZID=America/New_York:20220908T193000
DTSTAMP:20260423T231450
CREATED:20220117T201446Z
LAST-MODIFIED:20220907T234103Z
UID:10000271-1662661800-1662665400@midtownatlanta.org
SUMMARY:Infrastructure Committee Meeting
DESCRIPTION:Please visit the Infrastructure Committee page to learn more about what we do and to register to attend this virtual committee meeting!
URL:https://midtownatlanta.org/events/infrastructure-committee-meeting/2022-09-08/
LOCATION:Zoom Virtual Webinar
END:VEVENT
BEGIN:VEVENT
DTSTART;TZID=America/New_York:20220907T183000
DTEND;TZID=America/New_York:20220907T193000
DTSTAMP:20260423T231450
CREATED:20220117T201608Z
LAST-MODIFIED:20220810T192540Z
UID:10000282-1662575400-1662579000@midtownatlanta.org
SUMMARY:Social Committee Meeting
DESCRIPTION:Please visit the Social Committee page to learn more about what we do and to register to attend this virtual committee meeting!
URL:https://midtownatlanta.org/events/social-committee-meeting/2022-09-07/
LOCATION:Zoom Virtual Webinar
END:VEVENT
END:VCALENDAR