BEGIN:VCALENDAR
VERSION:2.0
PRODID:-//Midtownatlanta.org - ECPv6.7.0//NONSGML v1.0//EN
CALSCALE:GREGORIAN
METHOD:PUBLISH
X-WR-CALNAME:Midtownatlanta.org
X-ORIGINAL-URL:https://midtownatlanta.org
X-WR-CALDESC:Events for Midtownatlanta.org
REFRESH-INTERVAL;VALUE=DURATION:PT1H
X-Robots-Tag:noindex
X-PUBLISHED-TTL:PT1H
BEGIN:VTIMEZONE
TZID:America/New_York
BEGIN:DAYLIGHT
TZOFFSETFROM:-0500
TZOFFSETTO:-0400
TZNAME:EDT
DTSTART:20230312T070000
END:DAYLIGHT
BEGIN:STANDARD
TZOFFSETFROM:-0400
TZOFFSETTO:-0500
TZNAME:EST
DTSTART:20231105T060000
END:STANDARD
END:VTIMEZONE
BEGIN:VEVENT
DTSTART;TZID=America/New_York:20230621T183000
DTEND;TZID=America/New_York:20230621T203000
DTSTAMP:20260420T232207
CREATED:20230108T202402Z
LAST-MODIFIED:20231209T201523Z
UID:10000348-1687372200-1687379400@midtownatlanta.org
SUMMARY:Safety Committee Meeting
DESCRIPTION:Please visit the Safety Committee page to learn more about what we do and to register to attend this virtual committee meeting!
URL:https://midtownatlanta.org/events/safety-committee-meeting-copy/2023-06-21/
LOCATION:Zoom Virtual Webinar
END:VEVENT
BEGIN:VEVENT
DTSTART;TZID=America/New_York:20230621T170000
DTEND;TZID=America/New_York:20230621T190000
DTSTAMP:20260420T232207
CREATED:20230314T191431Z
LAST-MODIFIED:20230314T191431Z
UID:10000557-1687366800-1687374000@midtownatlanta.org
SUMMARY:Acoustic Wednesdays
DESCRIPTION:Each Wednesday from 5-7 PM\, Midtown Alliance will host a local musician to play an acoustic set in Commercial Row Commons\, located at Peachtree St and Peachtree Pl (outside Savi Market). \nFor more information on the upcoming performer\, check out the event page.
URL:https://midtownatlanta.org/events/acoustic-wednesdays/2023-06-21/
LOCATION:GA
END:VEVENT
BEGIN:VEVENT
DTSTART;TZID=America/New_York:20230620T183000
DTEND;TZID=America/New_York:20230620T203000
DTSTAMP:20260420T232207
CREATED:20230108T202209Z
LAST-MODIFIED:20230227T164551Z
UID:10000422-1687285800-1687293000@midtownatlanta.org
SUMMARY:Land Use Committee Meeting
DESCRIPTION:Please visit the Land Use Committee to learn more about what we do and to register to attend this virtual committee meeting!
URL:https://midtownatlanta.org/events/land-use-committee-meeting-copy/2023-06-20/
LOCATION:Zoom Virtual Webinar
END:VEVENT
BEGIN:VEVENT
DTSTART;TZID=America/New_York:20230614T170000
DTEND;TZID=America/New_York:20230614T190000
DTSTAMP:20260420T232207
CREATED:20230314T191431Z
LAST-MODIFIED:20230314T191431Z
UID:10000556-1686762000-1686769200@midtownatlanta.org
SUMMARY:Acoustic Wednesdays
DESCRIPTION:Each Wednesday from 5-7 PM\, Midtown Alliance will host a local musician to play an acoustic set in Commercial Row Commons\, located at Peachtree St and Peachtree Pl (outside Savi Market). \nFor more information on the upcoming performer\, check out the event page.
URL:https://midtownatlanta.org/events/acoustic-wednesdays/2023-06-14/
LOCATION:GA
END:VEVENT
BEGIN:VEVENT
DTSTART;TZID=America/New_York:20230613T173000
DTEND;TZID=America/New_York:20230613T190000
DTSTAMP:20260420T232207
CREATED:20230314T175637Z
LAST-MODIFIED:20230314T175754Z
UID:10000496-1686677400-1686682800@midtownatlanta.org
SUMMARY:Midtown Development Review Committee
DESCRIPTION:  \nEach month there is a public meeting of the Midtown Development Review Committee – comprised of 10 individuals representing residents\, property and business owners\, institutions\, neighborhood associations\, and MARTA.  The committee\, appointed by the City of Atlanta\, provides formal recommendations to the Office of Planning on all Special Administrative Permit (SAP) applications within the Midtown SPI-16 and SPI-17 zoning districts. \nThe Midtown residential community is represented by two members of the DRC.  Midtown Neighbors’ Association\, currently represented by Jenny Williams\, and NPU-E\, currently represented by Coleman Morris\, advocate for the interests of the community in the review of both large scale major developments and smaller renovations within the Midtown Improvement District (a part of the Midtown Neighborhood.) \nMidtown DRC meetings are managed by the Midtown Alliance and are scheduled on the second Tuesday of each month.  The meetings are held in person on the 5th Floor of 999 Peachtree at 5:30 PM.  Applicants must submit project information (project narrative\, site plan\, elevations\, renderings) one week in advance in order to be placed on the agenda. \nYou can find the archive and current agendas here: \nhttps://www.midtownatl.com/about/programs-and-projects/planning-and-urban-design/midtown-development-review-committee
URL:https://midtownatlanta.org/events/midtown-development-review-committee/2023-06-13/
LOCATION:GA
END:VEVENT
BEGIN:VEVENT
DTSTART;TZID=America/New_York:20230608T183000
DTEND;TZID=America/New_York:20230608T193000
DTSTAMP:20260420T232207
CREATED:20230306T143158Z
LAST-MODIFIED:20231209T201453Z
UID:10000462-1686249000-1686252600@midtownatlanta.org
SUMMARY:Infrastructure Committee Meeting
DESCRIPTION:Please visit the Infrastructure Committee page to learn more about what we do and to register to attend this virtual committee meeting!
URL:https://midtownatlanta.org/events/infrastructure-committee-meeting-copy-2-3/2023-06-08/
LOCATION:Zoom Virtual Webinar
END:VEVENT
BEGIN:VEVENT
DTSTART;TZID=America/New_York:20230607T170000
DTEND;TZID=America/New_York:20230607T190000
DTSTAMP:20260420T232207
CREATED:20230314T191431Z
LAST-MODIFIED:20230314T191431Z
UID:10000555-1686157200-1686164400@midtownatlanta.org
SUMMARY:Acoustic Wednesdays
DESCRIPTION:Each Wednesday from 5-7 PM\, Midtown Alliance will host a local musician to play an acoustic set in Commercial Row Commons\, located at Peachtree St and Peachtree Pl (outside Savi Market). \nFor more information on the upcoming performer\, check out the event page.
URL:https://midtownatlanta.org/events/acoustic-wednesdays/2023-06-07/
LOCATION:GA
END:VEVENT
BEGIN:VEVENT
DTSTART;TZID=America/New_York:20230606T183000
DTEND;TZID=America/New_York:20230606T203000
DTSTAMP:20260420T232207
CREATED:20230314T182036Z
LAST-MODIFIED:20241015T165715Z
UID:10000521-1686076200-1686083400@midtownatlanta.org
SUMMARY:NPU-E Meeting
DESCRIPTION:  \nThe City of Atlanta is divided into twenty-five (25) Neighborhood Planning Units (NPUs)\, which are citizen advisory councils that make recommendations to the Mayor and City Council on zoning\, land use\, and other planning-related matters. The NPU system was established in 1974 by the late Mayor Maynard Jackson to provide an opportunity for all citizens to actively participate in the Comprehensive Development Plan\, which is the City’s vision for the next five\, ten\, and fifteen years. Since then the NPU system has evolved into what it is today – the official avenue for residents to receive updates concerning all functions of City government. Enabling residents to express concerns and provide input helps the City in developing plans that best meet the needs of each neighborhood. \n​Midtown resides in NPU-E which meets on the first Tuesday of every month. \nYou can find the current agenda and link to join the virtual meeting on the City of Atlanta NPU directory one week before the meeting.   \nMidtown is represented on the NPU-E Board by Midtown Neighbors’ Association.  The Board of Directors appoints a representative from MNA to serve on the NPU- E Board. \nYou can learn more about the NPU system here: \nwww.npuatlanta.org \nYou can learn more about NPU-E here: \nwww.npueatlanta.org \nYou can reach your Midtown NPU-E representative here: \npresident@midtownatlanta.org
URL:https://midtownatlanta.org/events/npu-e-meeting-2/2023-06-06/
LOCATION:GA
END:VEVENT
BEGIN:VEVENT
DTSTART;TZID=America/New_York:20230603T183000
DTEND;TZID=America/New_York:20230603T193000
DTSTAMP:20260420T232207
CREATED:20230108T203807Z
LAST-MODIFIED:20230227T172559Z
UID:10000431-1685817000-1685820600@midtownatlanta.org
SUMMARY:Social Committee Meeting
DESCRIPTION:Please visit the Social Committee page to learn more about what we do and to register to attend this virtual committee meeting!
URL:https://midtownatlanta.org/events/social-committee-meeting-copy-2/2023-06-03/
LOCATION:Zoom Virtual Webinar
END:VEVENT
BEGIN:VEVENT
DTSTART;TZID=America/New_York:20230531T170000
DTEND;TZID=America/New_York:20230531T190000
DTSTAMP:20260420T232207
CREATED:20230314T191431Z
LAST-MODIFIED:20230314T191431Z
UID:10000554-1685552400-1685559600@midtownatlanta.org
SUMMARY:Acoustic Wednesdays
DESCRIPTION:Each Wednesday from 5-7 PM\, Midtown Alliance will host a local musician to play an acoustic set in Commercial Row Commons\, located at Peachtree St and Peachtree Pl (outside Savi Market). \nFor more information on the upcoming performer\, check out the event page.
URL:https://midtownatlanta.org/events/acoustic-wednesdays/2023-05-31/
LOCATION:GA
END:VEVENT
BEGIN:VEVENT
DTSTART;TZID=America/New_York:20230525T183000
DTEND;TZID=America/New_York:20230525T203000
DTSTAMP:20260420T232207
CREATED:20230108T203634Z
LAST-MODIFIED:20230425T221045Z
UID:10000383-1685039400-1685046600@midtownatlanta.org
SUMMARY:Midtown Community Meeting
DESCRIPTION:Please visit the Board of Directors page to learn more about what we do and to register to attend this monthly overview of our progress on Midtown topics that are important to our community.
URL:https://midtownatlanta.org/events/board-meeting-2022-02-24-copy/2023-05-25/
LOCATION:Zoom Virtual Webinar
END:VEVENT
BEGIN:VEVENT
DTSTART;TZID=America/New_York:20230524T170000
DTEND;TZID=America/New_York:20230524T190000
DTSTAMP:20260420T232207
CREATED:20230314T191431Z
LAST-MODIFIED:20230314T191431Z
UID:10000553-1684947600-1684954800@midtownatlanta.org
SUMMARY:Acoustic Wednesdays
DESCRIPTION:Each Wednesday from 5-7 PM\, Midtown Alliance will host a local musician to play an acoustic set in Commercial Row Commons\, located at Peachtree St and Peachtree Pl (outside Savi Market). \nFor more information on the upcoming performer\, check out the event page.
URL:https://midtownatlanta.org/events/acoustic-wednesdays/2023-05-24/
LOCATION:GA
END:VEVENT
BEGIN:VEVENT
DTSTART;TZID=America/New_York:20230523T183000
DTEND;TZID=America/New_York:20230523T203000
DTSTAMP:20260420T232207
CREATED:20230108T203102Z
LAST-MODIFIED:20230108T203352Z
UID:10000366-1684866600-1684873800@midtownatlanta.org
SUMMARY:License and Permits Committee Meeting
DESCRIPTION:Please visit the License and Permits Committee page to learn more about what we do and to register to attend this virtual committee meeting!
URL:https://midtownatlanta.org/events/license-and-permits-committee-meeting-copy-copy/2023-05-23/
LOCATION:Zoom Virtual Webinar
END:VEVENT
BEGIN:VEVENT
DTSTART;TZID=America/New_York:20230521T120000
DTEND;TZID=America/New_York:20230521T170000
DTSTAMP:20260420T232207
CREATED:20230120T150721Z
LAST-MODIFIED:20230120T150721Z
UID:10000178-1684670400-1684688400@midtownatlanta.org
SUMMARY:10th Annual Midtown Garden Stroll
DESCRIPTION:The 10th Annual Midtown Garden Stroll is MNA’s biggest\, most highly anticipated event of the year!  The Garden Stroll is a free event\, open to the general public\, and takes place throughout the Historic Midtown Garden District.  The stroll is an outdoor self-guided tour\, providing a rare opportunity to experience some of Midtown’s most impressive private gardens.  Guests can expect to see formal gardens\, casual gardens\, fountains\, espalier\, backyard beekeeping\, intricate brickwork\, and inspiring ideas for beautiful\, fully functional family yards. \nBe sure to make time to enjoy the Garden Stroll Market where local artisans will showcase their creations\, live musicians will play and a talented Midtown artist will complete a live painting! Tasty bites and drinks are also offered by Atlanta-based restauranteurs. \nMark your calendar now and check back for more details as the date approaches.  We will post loads of fun content on our Instagram account – follow us!  @midtownneighbors
URL:https://midtownatlanta.org/events/10th-annual-midtown-garden-stroll/
LOCATION:Penn Avenue NW\, 826 Penn Ave NE\, Atlanta\, GA\, 30308\, United States
END:VEVENT
BEGIN:VEVENT
DTSTART;TZID=America/New_York:20230520T090000
DTEND;TZID=America/New_York:20230520T100000
DTSTAMP:20260420T232207
CREATED:20230503T203534Z
LAST-MODIFIED:20230503T203807Z
UID:10000612-1684573200-1684576800@midtownatlanta.org
SUMMARY:Midtown Clean-up Day: Garden Stroll Prep
DESCRIPTION:Pitch in an hour of time to help pick up trash around the Midtown Garden District so we can look our best for the upcoming 2023 Garden Stroll on 5/21/23. This is a great way to meet new people\, get outside in this glorious weather\, and do your part for our community.
URL:https://midtownatlanta.org/events/midtown-clean-up-day-garden-stroll-prep-2/
LOCATION:327 6th Street\, 327 6th Street\, Atlanta\, Fulton\, 30308\, United States
END:VEVENT
BEGIN:VEVENT
DTSTART;TZID=America/New_York:20230519T200000
DTEND;TZID=America/New_York:20230519T220000
DTSTAMP:20260420T232207
CREATED:20230426T202249Z
LAST-MODIFIED:20230427T191833Z
UID:10000609-1684526400-1684533600@midtownatlanta.org
SUMMARY:Gardens After Dark
DESCRIPTION:Welcome to Gardens After Dark\, a unique evening event to support the care of green spaces throughout the Historic Midtown Garden District and other community projects throughout the year.  This ticketed event\, taking place on Friday\, May 19\, 2023\, from 8:00pm until 10:00pm\, features exclusive nighttime viewing of two amazing historic homes — a timeless  modern by renown Atlanta architect Henri Jova and a charming Midtown cottage with elegant Southern gardens.  Wander between these unique homes in the evening light while you enjoy live music\, retro beats\, light hors d’oeuvres\, and cocktails. \nAll members of your group\, including children\, must have a ticket to attend.  Attendees must be 21 or older\, with valid state-issued identification\, to consume alcoholic beverages.
URL:https://midtownatlanta.org/events/gardens-after-dark/
LOCATION:GA
END:VEVENT
BEGIN:VEVENT
DTSTART;TZID=America/New_York:20230517T183000
DTEND;TZID=America/New_York:20230517T203000
DTSTAMP:20260420T232207
CREATED:20230108T202402Z
LAST-MODIFIED:20231209T201523Z
UID:10000347-1684348200-1684355400@midtownatlanta.org
SUMMARY:Safety Committee Meeting
DESCRIPTION:Please visit the Safety Committee page to learn more about what we do and to register to attend this virtual committee meeting!
URL:https://midtownatlanta.org/events/safety-committee-meeting-copy/2023-05-17/
LOCATION:Zoom Virtual Webinar
END:VEVENT
BEGIN:VEVENT
DTSTART;TZID=America/New_York:20230517T170000
DTEND;TZID=America/New_York:20230517T190000
DTSTAMP:20260420T232207
CREATED:20230314T191431Z
LAST-MODIFIED:20230314T191431Z
UID:10000552-1684342800-1684350000@midtownatlanta.org
SUMMARY:Acoustic Wednesdays
DESCRIPTION:Each Wednesday from 5-7 PM\, Midtown Alliance will host a local musician to play an acoustic set in Commercial Row Commons\, located at Peachtree St and Peachtree Pl (outside Savi Market). \nFor more information on the upcoming performer\, check out the event page.
URL:https://midtownatlanta.org/events/acoustic-wednesdays/2023-05-17/
LOCATION:GA
END:VEVENT
BEGIN:VEVENT
DTSTART;TZID=America/New_York:20230516T183000
DTEND;TZID=America/New_York:20230516T203000
DTSTAMP:20260420T232207
CREATED:20230108T202209Z
LAST-MODIFIED:20230227T164551Z
UID:10000421-1684261800-1684269000@midtownatlanta.org
SUMMARY:Land Use Committee Meeting
DESCRIPTION:Please visit the Land Use Committee to learn more about what we do and to register to attend this virtual committee meeting!
URL:https://midtownatlanta.org/events/land-use-committee-meeting-copy/2023-05-16/
LOCATION:Zoom Virtual Webinar
END:VEVENT
BEGIN:VEVENT
DTSTART;TZID=America/New_York:20230513T130000
DTEND;TZID=America/New_York:20230513T160000
DTSTAMP:20260420T232207
CREATED:20230426T202539Z
LAST-MODIFIED:20230426T202631Z
UID:10000610-1683982800-1683993600@midtownatlanta.org
SUMMARY:Midtown Plant Swap
DESCRIPTION:
URL:https://midtownatlanta.org/events/midtown-plant-swap/
LOCATION:771 Myrtle Street\, Atlanta\, GA 30308\, 771 Myrtle Street\, Atlanta\, GA\, 30308\, United States
END:VEVENT
BEGIN:VEVENT
DTSTART;TZID=America/New_York:20230513T083000
DTEND;TZID=America/New_York:20230513T093000
DTSTAMP:20260420T232207
CREATED:20230122T220010Z
LAST-MODIFIED:20230314T175925Z
UID:10000413-1683966600-1683970200@midtownatlanta.org
SUMMARY:Midtown Race for MAC
DESCRIPTION:Lace up your shoes to prevent hunger and homelessness in May 2023 for the 9th annual Midtown Race for MAC which brings supporters and runners back to Piedmont Park! Date to be announced soon! \nThe Midtown Race for MAC is a family and dog-friendly event where strollers\, leashed dogs and even costumes are welcomed in this morning run through Piedmont Park. The starting line is near Park Tavern and Midtown High School at 500 10th Street\, with a prompt start time of 8:30 a.m. All pre-registered participants will receive a 100% cotton short-sleeved T-shirt\, with race day sign ups receiving them while supplies last.
URL:https://midtownatlanta.org/events/midtown-race-for-mac/
LOCATION:Piedmont Park Meadow
END:VEVENT
BEGIN:VEVENT
DTSTART;TZID=America/New_York:20230511T183000
DTEND;TZID=America/New_York:20230511T193000
DTSTAMP:20260420T232207
CREATED:20230306T143158Z
LAST-MODIFIED:20231209T201453Z
UID:10000461-1683829800-1683833400@midtownatlanta.org
SUMMARY:Infrastructure Committee Meeting
DESCRIPTION:Please visit the Infrastructure Committee page to learn more about what we do and to register to attend this virtual committee meeting!
URL:https://midtownatlanta.org/events/infrastructure-committee-meeting-copy-2-3/2023-05-11/
LOCATION:Zoom Virtual Webinar
END:VEVENT
BEGIN:VEVENT
DTSTART;TZID=America/New_York:20230510T170000
DTEND;TZID=America/New_York:20230510T190000
DTSTAMP:20260420T232207
CREATED:20230314T191431Z
LAST-MODIFIED:20230314T191431Z
UID:10000551-1683738000-1683745200@midtownatlanta.org
SUMMARY:Acoustic Wednesdays
DESCRIPTION:Each Wednesday from 5-7 PM\, Midtown Alliance will host a local musician to play an acoustic set in Commercial Row Commons\, located at Peachtree St and Peachtree Pl (outside Savi Market). \nFor more information on the upcoming performer\, check out the event page.
URL:https://midtownatlanta.org/events/acoustic-wednesdays/2023-05-10/
LOCATION:GA
END:VEVENT
BEGIN:VEVENT
DTSTART;TZID=America/New_York:20230509T173000
DTEND;TZID=America/New_York:20230509T190000
DTSTAMP:20260420T232207
CREATED:20230314T175637Z
LAST-MODIFIED:20230314T175754Z
UID:10000495-1683653400-1683658800@midtownatlanta.org
SUMMARY:Midtown Development Review Committee
DESCRIPTION:  \nEach month there is a public meeting of the Midtown Development Review Committee – comprised of 10 individuals representing residents\, property and business owners\, institutions\, neighborhood associations\, and MARTA.  The committee\, appointed by the City of Atlanta\, provides formal recommendations to the Office of Planning on all Special Administrative Permit (SAP) applications within the Midtown SPI-16 and SPI-17 zoning districts. \nThe Midtown residential community is represented by two members of the DRC.  Midtown Neighbors’ Association\, currently represented by Jenny Williams\, and NPU-E\, currently represented by Coleman Morris\, advocate for the interests of the community in the review of both large scale major developments and smaller renovations within the Midtown Improvement District (a part of the Midtown Neighborhood.) \nMidtown DRC meetings are managed by the Midtown Alliance and are scheduled on the second Tuesday of each month.  The meetings are held in person on the 5th Floor of 999 Peachtree at 5:30 PM.  Applicants must submit project information (project narrative\, site plan\, elevations\, renderings) one week in advance in order to be placed on the agenda. \nYou can find the archive and current agendas here: \nhttps://www.midtownatl.com/about/programs-and-projects/planning-and-urban-design/midtown-development-review-committee
URL:https://midtownatlanta.org/events/midtown-development-review-committee/2023-05-09/
LOCATION:GA
END:VEVENT
BEGIN:VEVENT
DTSTART;TZID=America/New_York:20230507T090000
DTEND;TZID=America/New_York:20230507T100000
DTSTAMP:20260420T232207
CREATED:20230503T203353Z
LAST-MODIFIED:20230503T203832Z
UID:10000611-1683450000-1683453600@midtownatlanta.org
SUMMARY:Midtown Clean-up Day: Garden Stroll Prep
DESCRIPTION:Pitch in an hour of time to help pick up trash around the Midtown Garden District so we can look our best for the upcoming 2023 Garden Stroll on 5/21/23. This is a great way to meet new people\, get outside in this glorious weather\, and do your part for our community.
URL:https://midtownatlanta.org/events/midtown-clean-up-day-garden-stroll-prep/
LOCATION:807 Argonne Avenue\, 807 Argonne Avenue\, Atlanta\, Fulton\, 30308\, United States
END:VEVENT
BEGIN:VEVENT
DTSTART;TZID=America/New_York:20230506T183000
DTEND;TZID=America/New_York:20230506T193000
DTSTAMP:20260420T232207
CREATED:20230108T203807Z
LAST-MODIFIED:20230227T172559Z
UID:10000430-1683397800-1683401400@midtownatlanta.org
SUMMARY:Social Committee Meeting
DESCRIPTION:Please visit the Social Committee page to learn more about what we do and to register to attend this virtual committee meeting!
URL:https://midtownatlanta.org/events/social-committee-meeting-copy-2/2023-05-06/
LOCATION:Zoom Virtual Webinar
END:VEVENT
BEGIN:VEVENT
DTSTART;TZID=America/New_York:20230506T080000
DTEND;TZID=America/New_York:20230506T120000
DTSTAMP:20260420T232207
CREATED:20230120T153748Z
LAST-MODIFIED:20230120T153748Z
UID:10000166-1683360000-1683374400@midtownatlanta.org
SUMMARY:Whine Walk Run 5K
DESCRIPTION:InclusiF Fitness\, a Corporate Wellness company\, is proud to announce the Whine Walk Run 5K – an Official Caribbean 5K.  The Caribbean is considered one of the most vibrant places in the world. The goal is to infuse the sights and sounds of the islands with an regular 5K.  InclusiF Fitness’s objective is to promote healthy living for the entire family and to promote the Caribbean culture of a colorful atmosphere\, liveliness\, festive costumes\, fun\, food and lots of dance
URL:https://midtownatlanta.org/events/whine-walk-run-5k/
LOCATION:Piedmont Park\, 400 Park Dr NE\, Atlanta\, GA\, 30309\, United States
END:VEVENT
BEGIN:VEVENT
DTSTART;TZID=America/New_York:20230503T170000
DTEND;TZID=America/New_York:20230503T190000
DTSTAMP:20260420T232207
CREATED:20230314T191431Z
LAST-MODIFIED:20230314T191431Z
UID:10000550-1683133200-1683140400@midtownatlanta.org
SUMMARY:Acoustic Wednesdays
DESCRIPTION:Each Wednesday from 5-7 PM\, Midtown Alliance will host a local musician to play an acoustic set in Commercial Row Commons\, located at Peachtree St and Peachtree Pl (outside Savi Market). \nFor more information on the upcoming performer\, check out the event page.
URL:https://midtownatlanta.org/events/acoustic-wednesdays/2023-05-03/
LOCATION:GA
END:VEVENT
BEGIN:VEVENT
DTSTART;TZID=America/New_York:20230502T183000
DTEND;TZID=America/New_York:20230502T203000
DTSTAMP:20260420T232207
CREATED:20230314T182036Z
LAST-MODIFIED:20241015T165715Z
UID:10000520-1683052200-1683059400@midtownatlanta.org
SUMMARY:NPU-E Meeting
DESCRIPTION:  \nThe City of Atlanta is divided into twenty-five (25) Neighborhood Planning Units (NPUs)\, which are citizen advisory councils that make recommendations to the Mayor and City Council on zoning\, land use\, and other planning-related matters. The NPU system was established in 1974 by the late Mayor Maynard Jackson to provide an opportunity for all citizens to actively participate in the Comprehensive Development Plan\, which is the City’s vision for the next five\, ten\, and fifteen years. Since then the NPU system has evolved into what it is today – the official avenue for residents to receive updates concerning all functions of City government. Enabling residents to express concerns and provide input helps the City in developing plans that best meet the needs of each neighborhood. \n​Midtown resides in NPU-E which meets on the first Tuesday of every month. \nYou can find the current agenda and link to join the virtual meeting on the City of Atlanta NPU directory one week before the meeting.   \nMidtown is represented on the NPU-E Board by Midtown Neighbors’ Association.  The Board of Directors appoints a representative from MNA to serve on the NPU- E Board. \nYou can learn more about the NPU system here: \nwww.npuatlanta.org \nYou can learn more about NPU-E here: \nwww.npueatlanta.org \nYou can reach your Midtown NPU-E representative here: \npresident@midtownatlanta.org
URL:https://midtownatlanta.org/events/npu-e-meeting-2/2023-05-02/
LOCATION:GA
END:VEVENT
BEGIN:VEVENT
DTSTART;TZID=America/New_York:20230429T090000
DTEND;TZID=America/New_York:20230429T123000
DTSTAMP:20260420T232207
CREATED:20230120T154206Z
LAST-MODIFIED:20230120T154429Z
UID:10000161-1682758800-1682771400@midtownatlanta.org
SUMMARY:Walk to End Lupus Now
DESCRIPTION:  \n  \n  \n  \n  \n  \n  \n  \n  \n  \n  \n  \n  \nWalk to End Lupus Now ™ events provide all people affected by lupus and their families the opportunity to come together for one unified purpose — to end lupus. Join the Lupus Foundation of America and thousands of walkers in nearly 60 cities across the nation to raise money for lupus research\, increase awareness of lupus\, and rally public support for the estimated 1.5 million Americans who suffer from its brutal impact.
URL:https://midtownatlanta.org/events/walk-to-end-lupus-now/
LOCATION:Piedmont Park- OakHill\, 10th Street and Charles Allen Drive\, Atlanta\, GA\, 30309\, United States
END:VEVENT
END:VCALENDAR