BEGIN:VCALENDAR
VERSION:2.0
PRODID:-//Midtownatlanta.org - ECPv6.7.0//NONSGML v1.0//EN
CALSCALE:GREGORIAN
METHOD:PUBLISH
X-ORIGINAL-URL:https://midtownatlanta.org
X-WR-CALDESC:Events for Midtownatlanta.org
REFRESH-INTERVAL;VALUE=DURATION:PT1H
X-Robots-Tag:noindex
X-PUBLISHED-TTL:PT1H
BEGIN:VTIMEZONE
TZID:America/New_York
BEGIN:DAYLIGHT
TZOFFSETFROM:-0500
TZOFFSETTO:-0400
TZNAME:EDT
DTSTART:20240310T070000
END:DAYLIGHT
BEGIN:STANDARD
TZOFFSETFROM:-0400
TZOFFSETTO:-0500
TZNAME:EST
DTSTART:20241103T060000
END:STANDARD
END:VTIMEZONE
BEGIN:VEVENT
DTSTART;TZID=America/New_York:20241112T173000
DTEND;TZID=America/New_York:20241112T190000
DTSTAMP:20260420T145419
CREATED:20231010T180652Z
LAST-MODIFIED:20231010T180730Z
UID:10000513-1731432600-1731438000@midtownatlanta.org
SUMMARY:Midtown Development Review Committee
DESCRIPTION:  \nEach month there is a public meeting of the Midtown Development Review Committee – comprised of 10 individuals representing residents\, property and business owners\, institutions\, neighborhood associations\, and MARTA.  The committee\, appointed by the City of Atlanta\, provides formal recommendations to the Office of Planning on all Special Administrative Permit (SAP) applications within the Midtown SPI-16 and SPI-17 zoning districts. \nThe Midtown residential community is represented by two members of the DRC.  Midtown Neighbors’ Association\, currently represented by Jenny Williams\, and NPU-E\, currently represented by Coleman Morris\, advocate for the interests of the community in the review of both large scale major developments and smaller renovations within the Midtown Improvement District (a part of the Midtown Neighborhood.) \nMidtown DRC meetings are managed by the Midtown Alliance and are scheduled on the second Tuesday of each month.  The meetings are held in person on the 5th Floor of 999 Peachtree at 5:30 PM.  Applicants must submit project information (project narrative\, site plan\, elevations\, renderings) one week in advance in order to be placed on the agenda. \nYou can find the archive and current agendas here: \nhttps://www.midtownatl.com/about/programs-and-projects/planning-and-urban-design/midtown-development-review-committee
URL:https://midtownatlanta.org/events/midtown-development-review-committee-2/2024-11-12/
LOCATION:GA
END:VEVENT
BEGIN:VEVENT
DTSTART;TZID=America/New_York:20241112T183000
DTEND;TZID=America/New_York:20241112T203000
DTSTAMP:20260420T145419
CREATED:20241015T165844Z
LAST-MODIFIED:20241015T170122Z
UID:10000991-1731436200-1731443400@midtownatlanta.org
SUMMARY:NPU-E Meeting
DESCRIPTION:  \nThe City of Atlanta is divided into twenty-five (25) Neighborhood Planning Units (NPUs)\, which are citizen advisory councils that make recommendations to the Mayor and City Council on zoning\, land use\, and other planning-related matters. The NPU system was established in 1974 by the late Mayor Maynard Jackson to provide an opportunity for all citizens to actively participate in the Comprehensive Development Plan\, which is the City’s vision for the next five\, ten\, and fifteen years. Since then the NPU system has evolved into what it is today – the official avenue for residents to receive updates concerning all functions of City government. Enabling residents to express concerns and provide input helps the City in developing plans that best meet the needs of each neighborhood. \n​Midtown resides in NPU-E which meets on the first Tuesday of every month. \nYou can find the current agenda and link to join the virtual meeting on the City of Atlanta NPU directory one week before the meeting.   \nMidtown is represented on the NPU-E Board by Midtown Neighbors’ Association.  The Board of Directors appoints a representative from MNA to serve on the NPU- E Board. \nYou can learn more about the NPU system here: \nwww.npuatlanta.org \nYou can learn more about NPU-E here: \nwww.npueatlanta.org \nYou can reach your Midtown NPU-E representative here: \npresident@midtownatlanta.org
URL:https://midtownatlanta.org/events/npu-e-meeting-2-copy/
LOCATION:GA
END:VEVENT
END:VCALENDAR