BEGIN:VCALENDAR
VERSION:2.0
PRODID:-//Midtownatlanta.org - ECPv6.7.0//NONSGML v1.0//EN
CALSCALE:GREGORIAN
METHOD:PUBLISH
X-WR-CALNAME:Midtownatlanta.org
X-ORIGINAL-URL:https://midtownatlanta.org
X-WR-CALDESC:Events for Midtownatlanta.org
REFRESH-INTERVAL;VALUE=DURATION:PT1H
X-Robots-Tag:noindex
X-PUBLISHED-TTL:PT1H
BEGIN:VTIMEZONE
TZID:America/New_York
BEGIN:DAYLIGHT
TZOFFSETFROM:-0500
TZOFFSETTO:-0400
TZNAME:EDT
DTSTART:20240310T070000
END:DAYLIGHT
BEGIN:STANDARD
TZOFFSETFROM:-0400
TZOFFSETTO:-0500
TZNAME:EST
DTSTART:20241103T060000
END:STANDARD
END:VTIMEZONE
BEGIN:VEVENT
DTSTART;TZID=America/New_York:20241009T183000
DTEND;TZID=America/New_York:20241009T203000
DTSTAMP:20260420T132653
CREATED:20240910T125451Z
LAST-MODIFIED:20241003T155000Z
UID:10000917-1728498600-1728505800@midtownatlanta.org
SUMMARY:Midtown Pride Mingle
DESCRIPTION:Atlanta Pride kicks off on October 9th on the most festive Midtown patio – Campagnolo – with our Annual Midtown Pride Mingle.  Join us at the Rainbow Crosswalks to celebrate Midtown’s long history of LGBTQ+ advocacy and allyship. Grab some swag for the weekend’s festivities\, enjoy drinks\, music and a celebration of love. \n 
URL:https://midtownatlanta.org/events/midtown-pride-mingle-3/
LOCATION:Campagnolo at Rainbow Crosswalks\, 980 Piedmont Avenue\, Atlanta\, GA\, 30309\, United States
ORGANIZER;CN="Midtown Neighbors' Association":MAILTO:gardenstroll@midtownatlanta.org
END:VEVENT
END:VCALENDAR